Workbook

Sheet Panden
A1: Nr | B1: Categorie | C1: Stad | D1: Adres | E1: Vraagprijs (€) | F1: Kale jaarhuur (€) | G1: BAR | H1: Kapitalisatiefactor | I1: Rendement op eigen geld bij vraagprijs (IRR) | J1: Biedprijs voor 7% IRR (€) | K1: Biedprijs voor 8% IRR (€) | L1: Biedprijs voor 10% IRR (€) | M1: WOZ-waarde (€) | N1: Datakwaliteit | O1: Bron (aanbieding)
A2: 1 | B2: Zelfstandig | C2: Rotterdam | D2: Willem van Hillegaersbergstraat 43-C, Rotterdam | E2: 450000 | F2: 29700 | G2: =IF(E2>0,F2/E2,"") | H2: =IF(F2>0,E2/F2,"") | I2: 0.0761 | J2: 460577 | K2: 443588 | L2: 416053 | M2: 405000 | N2: B | O2: https://www.beleggingspanden.nl/nl/aanbod/rotterdam-willem-van-hillegaersbergstraat-43-c-16462
A3: 2 | B3: Kamerverhuur | C3: Breda | D3: Tasmanstraat 33, Breda | E3: 403000 | F3: 34519 | G3: =IF(E3>0,F3/E3,"") | H3: =IF(F3>0,E3/F3,"") | I3: 0.1454 | J3: 536831 | K3: 510571 | L3: 467886 | M3: 362700 | N3: B | O3: https://www.beleggingspanden.nl/nl/aanbod/breda-tasmanstraat-33-16471
A4: 3 | B4: Zelfstandig | C4: 's-Hertogenbosch | D4: Steve Bikostraat 2, 's-Hertogenbosch | E4: 275000 | F4: 14459 | G4: =IF(E4>0,F4/E4,"") | H4: =IF(F4>0,E4/F4,"") | I4: 0.0101 | J4: 220549 | K4: 215809 | L4: 208169 | M4: 247500 | N4: B | O4: https://www.beleggingspanden.nl/nl/aanbod/s%E2%80%98-hertogenbosch-steve-bikostraat-2-16483
A5: 4 | B5: Wooncomplex | C5: Kerkrade | D5: Drievogelstraat 33, 33A & 33B, Kerkrade | E5: 450000 | F5: 33660 | G5: =IF(E5>0,F5/E5,"") | H5: =IF(F5>0,E5/F5,"") | I5: 0.1092 | J5: 523085 | K5: 500516 | L5: 463876 | M5: 405000 | N5: B | O5: https://www.beleggingspanden.nl/nl/aanbod/plaats/Kerkrade
A6: 5 | B6: Wooncomplex | C6: Heerlen | D6: Sittarderweg 48, 48A & 48B, Heerlen | E6: 480000 | F6: 39600 | G6: =IF(E6>0,F6/E6,"") | H6: =IF(F6>0,E6/F6,"") | I6: 0.1354 | J6: 616721 | K6: 587365 | L6: 539668 | M6: 432000 | N6: C | O6: https://allecijfers.nl/postcode/6412CG/
A7: 6 | B7: Wooncomplex | C7: Heerlen | D7: Reestraat 19, 19B & 19C, Heerlen | E7: 360000 | F7: 27600 | G7: =IF(E7>0,F7/E7,"") | H7: =IF(F7>0,E7/F7,"") | I7: 0.1153 | J7: 427772 | K7: 408994 | L7: 378493 | M7: 324000 | N7: B | O7: https://www.beleggingspanden.nl/nl/aanbod/heerlen-reestraat-19-19b-19c-16492
A8: 7 | B8: Zelfstandig | C8: Landgraaf | D8: Prins Bernhardstraat 22, Landgraaf | E8: 225000 | F8: 14736 | G8: =IF(E8>0,F8/E8,"") | H8: =IF(F8>0,E8/F8,"") | I8: 0.0689 | J8: 224045 | K8: 216318 | L8: 203780 | M8: 202500 | N8: B | O8: https://www.beleggingspanden.nl/nl/aanbod/landgraaf-prins-bernhardstraat-22-16493
A9: 8 | B9: Zelfstandig | C9: Purmerend | D9: Roggebotstraat 14, Purmerend | E9: 290000 | F9: 15594 | G9: =IF(E9>0,F9/E9,"") | H9: =IF(F9>0,E9/F9,"") | I9: 0.0172 | J9: 238467 | K9: 232916 | L9: 223962 | M9: 261000 | N9: A | O9: https://huispedia.nl/purmerend/1448rv/roggebotstraat/14
A10: 9 | B10: Zelfstandig | C10: Lelystad | D10: Fjord 74, Lelystad | E10: 200000 | F10: 10737 | G10: =IF(E10>0,F10/E10,"") | H10: =IF(F10>0,E10/F10,"") | I10: 0.0087 | J10: 159941 | K10: 156577 | L10: 151148 | M10: 180000 | N10: A | O10: https://www.beleggingspanden.nl/nl/nieuw-aanbod/week-2-2026
A11: 10 | B11: Zelfstandig | C11: Nissewaard | D11: Jacob Catsstraat 62, Spijkenisse | E11: 165000 | F11: 10020 | G11: =IF(E11>0,F11/E11,"") | H11: =IF(F11>0,E11/F11,"") | I11: 0.038 | J11: 146546 | K11: 142458 | L11: 135837 | M11: 148500 | N11: A | O11: https://www.beleggingspanden.nl/nl/nieuw-aanbod/week-2-2026
A12: 11 | B12: Wooncomplex | C12: Den Haag | D12: Valkenboslaan 294 & 294A, Den Haag | E12: 420000 | F12: 23067 | G12: =IF(E12>0,F12/E12,"") | H12: =IF(F12>0,E12/F12,"") | I12: 0.0264 | J12: 355997 | K12: 346772 | L12: 331888 | M12: 378000 | N12: B | O12: https://www.beleggingspanden.nl/nl/nieuw-aanbod/week-3-2026
A13: 12 | B13: Kamerverhuur | C13: Tilburg | D13: Brasemstraat 16, Tilburg | E13: 427000 | F13: 32230 | G13: =IF(E13>0,F13/E13,"") | H13: =IF(F13>0,E13/F13,"") | I13: 0.1115 | J13: 500606 | K13: 478838 | L13: 443494 | M13: 384300 | N13: A | O13: https://www.beleggingspanden.nl/nl/aanbod/tilburg-brasemstraat-16-16507
A14: 13 | B14: Wooncomplex | C14: Amsterdam | D14: Maarten Harpertszoon Trompstraat 3, Amsterdam | E14: 2750000 | F14: 119580 | G14: =IF(E14>0,F14/E14,"") | H14: =IF(F14>0,E14/F14,"") | I14: -0.0294 | M14: 2475000 | N14: B | O14: https://www.beleggingspanden.nl/nl/nieuw-aanbod/week-4-2026
A15: 14 | B15: Wooncomplex | C15: Amsterdam | D15: Valutaboulevard 12, 12B & 2C (zoals listing), Amsterdam | E15: 1250000 | F15: 75639 | G15: =IF(E15>0,F15/E15,"") | H15: =IF(F15>0,E15/F15,"") | I15: 0.0557 | J15: 1181759 | K15: 1142301 | L15: 1078513 | M15: 1125000 | N15: B | O15: https://allecijfers.nl/postcode/1060RX
A16: 15 | B16: Zelfstandig | C16: Woerden | D16: Achterstraat 10A, Woerden | E16: 110000 | F16: 7440 | G16: =IF(E16>0,F16/E16,"") | H16: =IF(F16>0,E16/F16,"") | I16: 0.0456 | J16: 100433 | K16: 97444 | L16: 92601 | M16: 99000 | N16: A | O16: https://www.beleggingspanden.nl/nl/nieuw-aanbod/week-4-2026
A17: 16 | B17: Kamerverhuur | C17: Den Haag | D17: Lekstraat 89A, Den Haag | E17: 350000 | F17: 22864 | G17: =IF(E17>0,F17/E17,"") | H17: =IF(F17>0,E17/F17,"") | I17: 0.0723 | J17: 353049 | K17: 340417 | L17: 319938 | M17: 315000 | N17: B | O17: https://www.beleggingspanden.nl/nl/nieuw-aanbod/week-4-2026
A18: 17 | B18: Kamerverhuur | C18: Utrecht | D18: Hartingstraat 16, 16A & 16BS, Utrecht | E18: 1200000 | F18: 67391 | G18: =IF(E18>0,F18/E18,"") | H18: =IF(F18>0,E18/F18,"") | I18: 0.0363 | J18: 1051828 | K18: 1021350 | L18: 972188 | M18: 1080000 | N18: B | O18: https://www.beleggingspanden.nl/nl/nieuw-aanbod/week-4-2026
A19: 18 | B19: Zelfstandig | C19: Gouda | D19: Nansenstraat 33, Gouda | E19: 230000 | F19: 12360 | G19: =IF(E19>0,F19/E19,"") | H19: =IF(F19>0,E19/F19,"") | I19: 0.013 | J19: 186675 | K19: 182553 | L19: 175900 | M19: 207000 | N19: B | O19: https://www.beleggingspanden.nl/nl/nieuw-aanbod/week-4-2026
A20: 19 | B20: Wooncomplex | C20: Rotterdam | D20: Dordtselaan 214 C01/C02, Rotterdam | E20: 810000 | F20: 78000 | G20: =IF(E20>0,F20/E20,"") | H20: =IF(F20>0,E20/F20,"") | I20: 0.1775 | J20: 1215000 | K20: 1155259 | L20: 1047884 | M20: 729000 | N20: B | O20: https://vastgoedjournaal.nl/beleggingspanden/pand/16281
A21: 20 | B21: Wooncomplex | C21: Leeuwarden | D21: Tuinen 36, Leeuwarden | E21: 1150000 | F21: 76810 | G21: =IF(E21>0,F21/E21,"") | H21: =IF(F21>0,E21/F21,"") | I21: 0.081 | J21: 1200767 | K21: 1154373 | L21: 1079220 | M21: 1035000 | N21: B | O21: https://www.beleggingspanden.nl/nl/aanbod/leeuwarden-tuinen-36-16542
A22: 21 | B22: Kamerverhuur | C22: Roosendaal | D22: Barietdijk 190, Roosendaal | E22: 360000 | F22: 26352 | G22: =IF(E22>0,F22/E22,"") | H22: =IF(F22>0,E22/F22,"") | I22: 0.1029 | J22: 408072 | K22: 391053 | L22: 363421 | M22: 324000 | N22: A | O22: https://www.beleggingspanden.nl/dynamic/panden.php?pandreactie=1520
A23: 22 | B23: Zelfstandig | C23: Nieuwegein | D23: Veenwal 154, Nieuwegein | E23: 185000 | F23: 11340 | G23: =IF(E23>0,F23/E23,"") | H23: =IF(F23>0,E23/F23,"") | I23: 0.0451 | J23: 168685 | K23: 163720 | L23: 155673 | M23: 166500 | N23: A | O23: https://www.beleggingspanden.nl/nl/nieuw-aanbod/week-5-2026
A24: 23 | B24: Kamerverhuur | C24: Utrecht | D24: Catharijnesingel 97BIS, Utrecht | E24: 389000 | F24: 22466 | G24: =IF(E24>0,F24/E24,"") | H24: =IF(F24>0,E24/F24,"") | I24: 0.0396 | J24: 346629 | K24: 336615 | L24: 320428 | M24: 350100 | N24: A | O24: https://www.beleggingspanden.nl/nl/aanbod/utrecht-catharijnesingel-97bis-16550
A25: 24 | B25: Zelfstandig | C25: Hallum | D25: Gedempte Haven 49, Hallum | E25: 145000 | F25: 10331 | G25: =IF(E25>0,F25/E25,"") | H25: =IF(F25>0,E25/F25,"") | I25: 0.0787 | J25: 149800 | K25: 144321 | L25: 135425 | M25: 130500 | N25: B | O25: https://www.beleggingspanden.nl/nl/aanbod/hallum-gedempte-haven-49-16553
A26: 25 | B26: Kamerverhuur | C26: Utrecht | D26: Vleutenseweg 217, Utrecht | E26: 800000 | F26: 46172 | G26: =IF(E26>0,F26/E26,"") | H26: =IF(F26>0,E26/F26,"") | I26: 0.0425 | J26: 718946 | K26: 697231 | L26: 662164 | M26: 720000 | N26: B | O26: https://www.beleggingspanden.nl/nl/nieuw-aanbod/week-5-2026
... A28: 27 | B28: Wooncomplex | C28: Sittard-Geleen | D28: Engelenkampstraat 82, 82A, 82B, 84 & 84A, Geleen | E28: 485000 | F28: 36840 | G28: =IF(E28>0,F28/E28,"") | H28: =IF(F28>0,E28/F28,"") | I28: 0.1134 | J28: 573133 | K28: 547931 | L28: 507012 | M28: 436500 | N28: A | O28: https://www.beleggingspanden.nl/nl/aanbod/sittard-geleen-engelenkampstraat-82-82a-82b-84-84a-16569
A29: 28 | B29: Zelfstandig | C29: Den Haag | D29: Goeverneurlaan 577, Den Haag | E29: 165000 | F29: 6312 | G29: =IF(E29>0,F29/E29,"") | H29: =IF(F29>0,E29/F29,"") | I29: -0.1217 | M29: 148500 | N29: B | O29: https://www.beleggingspanden.nl/nl/aanbod/den-haag-goeverneurlaan-577-16575
A30: 29 | B30: Zelfstandig | C30: Winschoten | D30: M.A. de Ruyterlaan 74, Winschoten | E30: 170000 | F30: 10028 | G30: =IF(E30>0,F30/E30,"") | H30: =IF(F30>0,E30/F30,"") | I30: 0.0307 | J30: 147027 | K30: 143172 | L30: 136931 | M30: 153000 | N30: A | O30: https://www.beleggingspanden.nl/nl/nieuw-aanbod/week-6-2026
A31: 30 | B31: Zelfstandig | C31: Brunssum | D31: Dorpstraat 127, Brunssum | E31: 129500 | F31: 7560 | G31: =IF(E31>0,F31/E31,"") | H31: =IF(F31>0,E31/F31,"") | I31: 0.0117 | J31: 104510 | K31: 102223 | M31: 116550 | N31: B | O31: https://www.beleggingspanden.nl/nl/aanbod/brunssum-dorpstraat-127-16585
A32: 31 | B32: Wooncomplex | C32: Emmen | D32: Weerdingerkanaal Zuidzijde 1, Nieuw-Weerdinge (Emmen) | E32: 700000 | F32: 50400 | G32: =IF(E32>0,F32/E32,"") | H32: =IF(F32>0,E32/F32,"") | I32: 0.0999 | J32: 786178 | K32: 753223 | L32: 699764 | M32: 630000 | N32: A | O32: https://www.beleggingspanden.nl/nl/aanbod/emmen-weerdingerkanaal-zuidzijde-1-16602
A33: 32 | B33: Zelfstandig | C33: Rotterdam | D33: Heemskerkstraat 70B, Rotterdam | E33: 195000 | F33: 6930 | G33: =IF(E33>0,F33/E33,"") | H33: =IF(F33>0,E33/F33,"") | I33: -0.1383 | M33: 175500 | N33: B | O33: https://www.beleggingspanden.nl/nl/nieuw-aanbod/week-9-2026
A34: 33 | B34: Kamerverhuur | C34: Rotterdam | D34: Socratesstraat (3 naast elkaar gelegen appartementen), Rotterdam | E34: 695000 | F34: 51432 | G34: =IF(E34>0,F34/E34,"") | H34: =IF(F34>0,E34/F34,"") | I34: 0.1071 | J34: 802493 | K34: 767819 | L34: 711554 | M34: 625500 | N34: B | O34: https://www.beleggingspanden.nl/dynamic/panden.php?pandreactie%5B%5D=5687&stage=5
A35: 34 | B35: Zelfstandig | C35: Rotterdam | D35: Dordtselaan 159C, Rotterdam | E35: 150000 | F35: 8400 | G35: =IF(E35>0,F35/E35,"") | H35: =IF(F35>0,E35/F35,"") | I35: 0.0085 | J35: 119781 | K35: 117257 | M35: 135000 | N35: B | O35: https://www.beleggingspanden.nl/nl/nieuw-aanbod/week-10-2026
A36: 35 | B36: Kamerverhuur | C36: Rotterdam | D36: Lepelaarsingel 41B, Rotterdam | E36: 249500 | F36: 17928 | G36: =IF(E36>0,F36/E36,"") | H36: =IF(F36>0,E36/F36,"") | I36: 0.0959 | J36: 275027 | K36: 264067 | L36: 246266 | M36: 224550 | N36: A | O36: https://www.beleggingspanden.nl/nl/aanbod/rotterdam-lepelaarsingel-41b-16633
A37: 36 | B37: Kamerverhuur | C37: Utrecht | D37: Vechtplantsoen 343, Utrecht | E37: 285000 | F37: 25442 | G37: =IF(E37>0,F37/E37,"") | H37: =IF(F37>0,E37/F37,"") | I37: 0.1563 | J37: 393927 | K37: 374236 | L37: 342209 | M37: 256500 | N37: C | O37: https://www.beleggingspanden.nl/nl/nieuw-aanbod/week-11-2026
A38: 37 | B38: Wooncomplex | C38: Kampen | D38: Sint Jacobstraat 4-32, Kampen | E38: 1600000 | F38: 96051 | G38: =IF(E38>0,F38/E38,"") | H38: =IF(F38>0,E38/F38,"") | I38: 0.0539 | J38: 1502109 | K38: 1452384 | L38: 1372027 | M38: 1440000 | N38: B | O38: https://www.beleggingspanden.nl/nl/nieuw-aanbod/week-11-2026
A39: 38 | B39: Zelfstandig | C39: Den Haag | D39: Van Diepenburchstraat 43, Den Haag | E39: 460000 | F39: 21765 | G39: =IF(E39>0,F39/E39,"") | H39: =IF(F39>0,E39/F39,"") | I39: -0.0146 | J39: 335283 | M39: 414000 | N39: A | O39: https://www.beleggingspanden.nl/nl/aanbod/den-haag-van-diepenburchstraat-43-16656
A40: 39 | B40: Zelfstandig | C40: Bocholtz | D40: Julianastraat 43, Bocholtz | E40: 139500 | F40: 8400 | G40: =IF(E40>0,F40/E40,"") | H40: =IF(F40>0,E40/F40,"") | I40: 0.0266 | J40: 118806 | K40: 115792 | L40: 110915 | M40: 125550 | N40: A | O40: https://www.beleggingspanden.nl/nl/nieuw-aanbod/week-11-2026
A41: 40 | B41: Zelfstandig | C41: Weert | D41: Louis Regoutstraat 2, Weert | E41: 162500 | F41: 7889 | G41: =IF(E41>0,F41/E41,"") | H41: =IF(F41>0,E41/F41,"") | I41: -0.0329 | M41: 146250 | N41: B | O41: https://www.beleggingspanden.nl/nl/nieuw-aanbod/week-12-2026
...

Sheet Toelichting
A1: Koopbarometer: 115 te koop staande beleggingspanden
A2: Momentopname augustus 2026, peildatum 08-08-2026. Bron: Brondata: openbare vastgoedaanbiedingen en openbare overheidsdata. Berekeningen: De Vastgoedrealist.
A4: Kerncijfers (rekenen live uit het blad Panden)
A6: Aantal panden | B6: =COUNTA(Panden!A2:A116)
A7: Mediane BAR (kale jaarhuur / vraagprijs) | B7: =MEDIAN(Panden!G2:G116)
A8: Mediane kapitalisatiefactor (vraagprijs / jaarhuur) | B8: =MEDIAN(Panden!H2:H116)
A9: Mediaan rendement op eigen geld bij vraagprijs (IRR) | B9: =MEDIAN(Panden!I2:I116)
A10: Mediane vraagprijs | B10: =MEDIAN(Panden!E2:E116)
A12: Wat de kolommen betekenen
A13: BAR = kale jaarhuur gedeeld door de vraagprijs (bruto, vóór kosten, belasting en financiering).
A14: Kapitalisatiefactor = vraagprijs gedeeld door de kale jaarhuur: hoeveel keer de jaarhuur je betaalt.
A15: IRR = rendement op je eigen ingelegde geld, berekend met de Pandanalyse-motor: DCF over 10 jaar, na belasting (Box 3), inclusief verkoop aan het eind.
A16: Biedprijs voor 7/8/10% = de prijs waarbij je precies dat rendement op eigen geld haalt.
A18: Uniforme aannames (gelijk voor alle panden, zodat ze vergelijkbaar zijn)
A19: Financiering 70% van de koopsom tegen 5.5% rente.
A20: Exploitatiekosten als deel van de huur: zelfstandig 25%, kamerverhuur 35%, wooncomplex 30%, overig 30%.
A21: Datakwaliteit A/B/C geeft aan hoe volledig en betrouwbaar de brongegevens van de aanbieding waren.
A23: Gebruik
A24: Vrij te gebruiken met bronvermelding: De Vastgoedrealist, vastgoedrealist.nl. Geen advies; een momentopname van vraagprijzen, niet van transacties.
A25: Analyse: https://www.vastgoedrealist.nl/artikelen/beleggingspanden-rendement-doorgerekend-2026.html
A26: Live cijfers: https://www.vastgoedrealist.nl/koopbarometer.html · Methode: https://www.vastgoedrealist.nl/methode.html
