Workbook

Sheet Panden
A1: Nr | B1: Categorie | C1: Stad | D1: Adres | E1: Vraagprijs (€) | F1: Kale jaarhuur (€) | G1: BAR | H1: Kapitalisatiefactor | I1: Rendement op eigen geld bij vraagprijs (IRR) | J1: Biedprijs voor 7% IRR (€) | K1: Biedprijs voor 8% IRR (€) | L1: Biedprijs voor 10% IRR (€) | M1: WOZ-waarde (€) | N1: Datakwaliteit | O1: Bron (aanbieding)
A2: 1 | B2: Zelfstandig | C2: Rotterdam | D2: Willem van Hillegaersbergstraat 43-C, Rotterdam | E2: 450000 | F2: 29700 | G2: =IF(E2>0,F2/E2,"") | H2: =IF(F2>0,E2/F2,"") | I2: 0.0761 | J2: 460577 | K2: 443588 | L2: 416053 | M2: 405000 | N2: B | O2: https://www.beleggingspanden.nl/nl/aanbod/rotterdam-willem-van-hillegaersbergstraat-43-c-16462
A3: 2 | B3: Kamerverhuur | C3: Breda | D3: Tasmanstraat 33, Breda | E3: 403000 | F3: 34519 | G3: =IF(E3>0,F3/E3,"") | H3: =IF(F3>0,E3/F3,"") | I3: 0.1454 | J3: 536831 | K3: 510571 | L3: 467886 | M3: 362700 | N3: B | O3: https://www.beleggingspanden.nl/nl/aanbod/breda-tasmanstraat-33-16471
A4: 3 | B4: Zelfstandig | C4: 's-Hertogenbosch | D4: Steve Bikostraat 2, 's-Hertogenbosch | E4: 275000 | F4: 14459 | G4: =IF(E4>0,F4/E4,"") | H4: =IF(F4>0,E4/F4,"") | I4: 0.0101 | J4: 220549 | K4: 215809 | L4: 208169 | M4: 247500 | N4: B | O4: https://www.beleggingspanden.nl/nl/aanbod/s%E2%80%98-hertogenbosch-steve-bikostraat-2-16483
A5: 4 | B5: Wooncomplex | C5: Kerkrade | D5: Drievogelstraat 33, 33A & 33B, Kerkrade | E5: 450000 | F5: 33660 | G5: =IF(E5>0,F5/E5,"") | H5: =IF(F5>0,E5/F5,"") | I5: 0.1092 | J5: 523085 | K5: 500516 | L5: 463876 | M5: 405000 | N5: B | O5: https://www.beleggingspanden.nl/nl/aanbod/plaats/Kerkrade
A6: 5 | B6: Wooncomplex | C6: Heerlen | D6: Sittarderweg 48, 48A & 48B, Heerlen | E6: 480000 | F6: 39600 | G6: =IF(E6>0,F6/E6,"") | H6: =IF(F6>0,E6/F6,"") | I6: 0.1354 | J6: 616721 | K6: 587365 | L6: 539668 | M6: 432000 | N6: C | O6: https://allecijfers.nl/postcode/6412CG/
A7: 6 | B7: Wooncomplex | C7: Heerlen | D7: Reestraat 19, 19B & 19C, Heerlen | E7: 360000 | F7: 27600 | G7: =IF(E7>0,F7/E7,"") | H7: =IF(F7>0,E7/F7,"") | I7: 0.1153 | J7: 427772 | K7: 408994 | L7: 378493 | M7: 324000 | N7: B | O7: https://www.beleggingspanden.nl/nl/aanbod/heerlen-reestraat-19-19b-19c-16492
A8: 7 | B8: Zelfstandig | C8: Landgraaf | D8: Prins Bernhardstraat 22, Landgraaf | E8: 225000 | F8: 14736 | G8: =IF(E8>0,F8/E8,"") | H8: =IF(F8>0,E8/F8,"") | I8: 0.0689 | J8: 224045 | K8: 216318 | L8: 203780 | M8: 202500 | N8: B | O8: https://www.beleggingspanden.nl/nl/aanbod/landgraaf-prins-bernhardstraat-22-16493
A9: 8 | B9: Zelfstandig | C9: Purmerend | D9: Roggebotstraat 14, Purmerend | E9: 290000 | F9: 15594 | G9: =IF(E9>0,F9/E9,"") | H9: =IF(F9>0,E9/F9,"") | I9: 0.0172 | J9: 238467 | K9: 232916 | L9: 223962 | M9: 261000 | N9: A | O9: https://huispedia.nl/purmerend/1448rv/roggebotstraat/14
A10: 9 | B10: Zelfstandig | C10: Lelystad | D10: Fjord 74, Lelystad | E10: 200000 | F10: 10737 | G10: =IF(E10>0,F10/E10,"") | H10: =IF(F10>0,E10/F10,"") | I10: 0.0087 | J10: 159941 | K10: 156577 | L10: 151148 | M10: 180000 | N10: A | O10: https://www.beleggingspanden.nl/nl/nieuw-aanbod/week-2-2026
A11: 10 | B11: Zelfstandig | C11: Nissewaard | D11: Jacob Catsstraat 62, Spijkenisse | E11: 165000 | F11: 10020 | G11: =IF(E11>0,F11/E11,"") | H11: =IF(F11>0,E11/F11,"") | I11: 0.038 | J11: 146546 | K11: 142458 | L11: 135837 | M11: 148500 | N11: A | O11: https://www.beleggingspanden.nl/nl/nieuw-aanbod/week-2-2026
A12: 11 | B12: Wooncomplex | C12: Den Haag | D12: Valkenboslaan 294 & 294A, Den Haag | E12: 420000 | F12: 23067 | G12: =IF(E12>0,F12/E12,"") | H12: =IF(F12>0,E12/F12,"") | I12: 0.0264 | J12: 355997 | K12: 346772 | L12: 331888 | M12: 378000 | N12: B | O12: https://www.beleggingspanden.nl/nl/nieuw-aanbod/week-3-2026
A13: 12 | B13: Kamerverhuur | C13: Tilburg | D13: Brasemstraat 16, Tilburg | E13: 427000 | F13: 32230 | G13: =IF(E13>0,F13/E13,"") | H13: =IF(F13>0,E13/F13,"") | I13: 0.1115 | J13: 500606 | K13: 478838 | L13: 443494 | M13: 384300 | N13: A | O13: https://www.beleggingspanden.nl/nl/aanbod/tilburg-brasemstraat-16-16507
A14: 13 | B14: Wooncomplex | C14: Amsterdam | D14: Maarten Harpertszoon Trompstraat 3, Amsterdam | E14: 2750000 | F14: 119580 | G14: =IF(E14>0,F14/E14,"") | H14: =IF(F14>0,E14/F14,"") | I14: -0.0294 | M14: 2475000 | N14: B | O14: https://www.beleggingspanden.nl/nl/nieuw-aanbod/week-4-2026
A15: 14 | B15: Wooncomplex | C15: Amsterdam | D15: Valutaboulevard 12, 12B & 2C (zoals listing), Amsterdam | E15: 1250000 | F15: 75639 | G15: =IF(E15>0,F15/E15,"") | H15: =IF(F15>0,E15/F15,"") | I15: 0.0557 | J15: 1181759 | K15: 1142301 | L15: 1078513 | M15: 1125000 | N15: B | O15: https://allecijfers.nl/postcode/1060RX
A16: 15 | B16: Zelfstandig | C16: Woerden | D16: Achterstraat 10A, Woerden | E16: 110000 | F16: 7440 | G16: =IF(E16>0,F16/E16,"") | H16: =IF(F16>0,E16/F16,"") | I16: 0.0456 | J16: 100433 | K16: 97444 | L16: 92601 | M16: 99000 | N16: A | O16: https://www.beleggingspanden.nl/nl/nieuw-aanbod/week-4-2026
A17: 16 | B17: Kamerverhuur | C17: Den Haag | D17: Lekstraat 89A, Den Haag | E17: 350000 | F17: 22864 | G17: =IF(E17>0,F17/E17,"") | H17: =IF(F17>0,E17/F17,"") | I17: 0.0723 | J17: 353049 | K17: 340417 | L17: 319938 | M17: 315000 | N17: B | O17: https://www.beleggingspanden.nl/nl/nieuw-aanbod/week-4-2026
A18: 17 | B18: Kamerverhuur | C18: Utrecht | D18: Hartingstraat 16, 16A & 16BS, Utrecht | E18: 1200000 | F18: 67391 | G18: =IF(E18>0,F18/E18,"") | H18: =IF(F18>0,E18/F18,"") | I18: 0.0363 | J18: 1051828 | K18: 1021350 | L18: 972188 | M18: 1080000 | N18: B | O18: https://www.beleggingspanden.nl/nl/nieuw-aanbod/week-4-2026
A19: 18 | B19: Zelfstandig | C19: Gouda | D19: Nansenstraat 33, Gouda | E19: 230000 | F19: 12360 | G19: =IF(E19>0,F19/E19,"") | H19: =IF(F19>0,E19/F19,"") | I19: 0.013 | J19: 186675 | K19: 182553 | L19: 175900 | M19: 207000 | N19: B | O19: https://www.beleggingspanden.nl/nl/nieuw-aanbod/week-4-2026
A20: 19 | B20: Wooncomplex | C20: Rotterdam | D20: Dordtselaan 214 C01/C02, Rotterdam | E20: 810000 | F20: 78000 | G20: =IF(E20>0,F20/E20,"") | H20: =IF(F20>0,E20/F20,"") | I20: 0.1775 | J20: 1215000 | K20: 1155259 | L20: 1047884 | M20: 729000 | N20: B | O20: https://vastgoedjournaal.nl/beleggingspanden/pand/16281
A21: 20 | B21: Wooncomplex | C21: Leeuwarden | D21: Tuinen 36, Leeuwarden | E21: 1150000 | F21: 76810 | G21: =IF(E21>0,F21/E21,"") | H21: =IF(F21>0,E21/F21,"") | I21: 0.081 | J21: 1200767 | K21: 1154373 | L21: 1079220 | M21: 1035000 | N21: B | O21: https://www.beleggingspanden.nl/nl/aanbod/leeuwarden-tuinen-36-16542
A22: 21 | B22: Kamerverhuur | C22: Roosendaal | D22: Barietdijk 190, Roosendaal | E22: 360000 | F22: 26352 | G22: =IF(E22>0,F22/E22,"") | H22: =IF(F22>0,E22/F22,"") | I22: 0.1029 | J22: 408072 | K22: 391053 | L22: 363421 | M22: 324000 | N22: A | O22: https://www.beleggingspanden.nl/dynamic/panden.php?pandreactie=1520
A23: 22 | B23: Zelfstandig | C23: Nieuwegein | D23: Veenwal 154, Nieuwegein | E23: 185000 | F23: 11340 | G23: =IF(E23>0,F23/E23,"") | H23: =IF(F23>0,E23/F23,"") | I23: 0.0451 | J23: 168685 | K23: 163720 | L23: 155673 | M23: 166500 | N23: A | O23: https://www.beleggingspanden.nl/nl/nieuw-aanbod/week-5-2026
A24: 23 | B24: Kamerverhuur | C24: Utrecht | D24: Catharijnesingel 97BIS, Utrecht | E24: 389000 | F24: 22466 | G24: =IF(E24>0,F24/E24,"") | H24: =IF(F24>0,E24/F24,"") | I24: 0.0396 | J24: 346629 | K24: 336615 | L24: 320428 | M24: 350100 | N24: A | O24: https://www.beleggingspanden.nl/nl/aanbod/utrecht-catharijnesingel-97bis-16550
A25: 24 | B25: Zelfstandig | C25: Hallum | D25: Gedempte Haven 49, Hallum | E25: 145000 | F25: 10331 | G25: =IF(E25>0,F25/E25,"") | H25: =IF(F25>0,E25/F25,"") | I25: 0.0787 | J25: 149800 | K25: 144321 | L25: 135425 | M25: 130500 | N25: B | O25: https://www.beleggingspanden.nl/nl/aanbod/hallum-gedempte-haven-49-16553
A26: 25 | B26: Kamerverhuur | C26: Utrecht | D26: Vleutenseweg 217, Utrecht | E26: 800000 | F26: 46172 | G26: =IF(E26>0,F26/E26,"") | H26: =IF(F26>0,E26/F26,"") | I26: 0.0425 | J26: 718946 | K26: 697231 | L26: 662164 | M26: 720000 | N26: B | O26: https://www.beleggingspanden.nl/nl/nieuw-aanbod/week-5-2026
... A28: 27 | B28: Wooncomplex | C28: Sittard-Geleen | D28: Engelenkampstraat 82, 82A, 82B, 84 & 84A, Geleen | E28: 485000 | F28: 36840 | G28: =IF(E28>0,F28/E28,"") | H28: =IF(F28>0,E28/F28,"") | I28: 0.1134 | J28: 573133 | K28: 547931 | L28: 507012 | M28: 436500 | N28: A | O28: https://www.beleggingspanden.nl/nl/aanbod/sittard-geleen-engelenkampstraat-82-82a-82b-84-84a-16569
A29: 28 | B29: Zelfstandig | C29: Den Haag | D29: Goeverneurlaan 577, Den Haag | E29: 165000 | F29: 6312 | G29: =IF(E29>0,F29/E29,"") | H29: =IF(F29>0,E29/F29,"") | I29: -0.1217 | M29: 148500 | N29: B | O29: https://www.beleggingspanden.nl/nl/aanbod/den-haag-goeverneurlaan-577-16575
A30: 29 | B30: Zelfstandig | C30: Winschoten | D30: M.A. de Ruyterlaan 74, Winschoten | E30: 170000 | F30: 10028 | G30: =IF(E30>0,F30/E30,"") | H30: =IF(F30>0,E30/F30,"") | I30: 0.0307 | J30: 147027 | K30: 143172 | L30: 136931 | M30: 153000 | N30: A | O30: https://www.beleggingspanden.nl/nl/nieuw-aanbod/week-6-2026
A31: 30 | B31: Zelfstandig | C31: Brunssum | D31: Dorpstraat 127, Brunssum | E31: 129500 | F31: 7560 | G31: =IF(E31>0,F31/E31,"") | H31: =IF(F31>0,E31/F31,"") | I31: 0.0117 | J31: 104510 | K31: 102223 | M31: 116550 | N31: B | O31: https://www.beleggingspanden.nl/nl/aanbod/brunssum-dorpstraat-127-16585
A32: 31 | B32: Wooncomplex | C32: Emmen | D32: Weerdingerkanaal Zuidzijde 1, Nieuw-Weerdinge (Emmen) | E32: 700000 | F32: 50400 | G32: =IF(E32>0,F32/E32,"") | H32: =IF(F32>0,E32/F32,"") | I32: 0.0999 | J32: 786178 | K32: 753223 | L32: 699764 | M32: 630000 | N32: A | O32: https://www.beleggingspanden.nl/nl/aanbod/emmen-weerdingerkanaal-zuidzijde-1-16602
A33: 32 | B33: Zelfstandig | C33: Rotterdam | D33: Heemskerkstraat 70B, Rotterdam | E33: 195000 | F33: 6930 | G33: =IF(E33>0,F33/E33,"") | H33: =IF(F33>0,E33/F33,"") | I33: -0.1383 | M33: 175500 | N33: B | O33: https://www.beleggingspanden.nl/nl/nieuw-aanbod/week-9-2026
A34: 33 | B34: Kamerverhuur | C34: Rotterdam | D34: Socratesstraat (3 naast elkaar gelegen appartementen), Rotterdam | E34: 695000 | F34: 51432 | G34: =IF(E34>0,F34/E34,"") | H34: =IF(F34>0,E34/F34,"") | I34: 0.1071 | J34: 802493 | K34: 767819 | L34: 711554 | M34: 625500 | N34: B | O34: https://www.beleggingspanden.nl/dynamic/panden.php?pandreactie%5B%5D=5687&stage=5
A35: 34 | B35: Zelfstandig | C35: Rotterdam | D35: Dordtselaan 159C, Rotterdam | E35: 150000 | F35: 8400 | G35: =IF(E35>0,F35/E35,"") | H35: =IF(F35>0,E35/F35,"") | I35: 0.0085 | J35: 119781 | K35: 117257 | M35: 135000 | N35: B | O35: https://www.beleggingspanden.nl/nl/nieuw-aanbod/week-10-2026
A36: 35 | B36: Kamerverhuur | C36: Rotterdam | D36: Lepelaarsingel 41B, Rotterdam | E36: 249500 | F36: 17928 | G36: =IF(E36>0,F36/E36,"") | H36: =IF(F36>0,E36/F36,"") | I36: 0.0959 | J36: 275027 | K36: 264067 | L36: 246266 | M36: 224550 | N36: A | O36: https://www.beleggingspanden.nl/nl/aanbod/rotterdam-lepelaarsingel-41b-16633
A37: 36 | B37: Kamerverhuur | C37: Utrecht | D37: Vechtplantsoen 343, Utrecht | E37: 285000 | F37: 25442 | G37: =IF(E37>0,F37/E37,"") | H37: =IF(F37>0,E37/F37,"") | I37: 0.1563 | J37: 393927 | K37: 374236 | L37: 342209 | M37: 256500 | N37: C | O37: https://www.beleggingspanden.nl/nl/nieuw-aanbod/week-11-2026
A38: 37 | B38: Wooncomplex | C38: Kampen | D38: Sint Jacobstraat 4-32, Kampen | E38: 1600000 | F38: 96051 | G38: =IF(E38>0,F38/E38,"") | H38: =IF(F38>0,E38/F38,"") | I38: 0.0539 | J38: 1502109 | K38: 1452384 | L38: 1372027 | M38: 1440000 | N38: B | O38: https://www.beleggingspanden.nl/nl/nieuw-aanbod/week-11-2026
A39: 38 | B39: Zelfstandig | C39: Den Haag | D39: Van Diepenburchstraat 43, Den Haag | E39: 460000 | F39: 21765 | G39: =IF(E39>0,F39/E39,"") | H39: =IF(F39>0,E39/F39,"") | I39: -0.0146 | J39: 335283 | M39: 414000 | N39: A | O39: https://www.beleggingspanden.nl/nl/aanbod/den-haag-van-diepenburchstraat-43-16656
A40: 39 | B40: Zelfstandig | C40: Bocholtz | D40: Julianastraat 43, Bocholtz | E40: 139500 | F40: 8400 | G40: =IF(E40>0,F40/E40,"") | H40: =IF(F40>0,E40/F40,"") | I40: 0.0266 | J40: 118806 | K40: 115792 | L40: 110915 | M40: 125550 | N40: A | O40: https://www.beleggingspanden.nl/nl/nieuw-aanbod/week-11-2026
A41: 40 | B41: Zelfstandig | C41: Weert | D41: Louis Regoutstraat 2, Weert | E41: 162500 | F41: 7889 | G41: =IF(E41>0,F41/E41,"") | H41: =IF(F41>0,E41/F41,"") | I41: -0.0329 | M41: 146250 | N41: B | O41: https://www.beleggingspanden.nl/nl/nieuw-aanbod/week-12-2026
A42: 41 | B42: Overig | C42: Amsterdam | D42: Woestduinstraat 31-H & 31-1, Amsterdam | E42: 1500000 | F42: 5995 | G42: =IF(E42>0,F42/E42,"") | H42: =IF(F42>0,E42/F42,"") | M42: 1350000 | N42: A | O42: https://www.fundainbusiness.nl/belegging/amsterdam/object-43388533-woestduinstraat-31-h/
A43: 42 | B43: Zelfstandig | C43: Montfoort | D43: Lange Kerkstraat 18, Montfoort | E43: 139000 | F43: 8100 | G43: =IF(E43>0,F43/E43,"") | H43: =IF(F43>0,E43/F43,"") | I43: 0.0162 | J43: 114020 | K43: 111405 | M43: 125100 | N43: A | O43: https://www.beleggingspanden.nl/nl/nieuw-aanbod/week-12-2026
A44: 43 | B44: Wooncomplex | C44: Amsterdam | D44: Bilderdijkstraat 194-1, 194-2 & 194-3, Amsterdam | E44: 1450000 | F44: 56907 | G44: =IF(E44>0,F44/E44,"") | H44: =IF(F44>0,E44/F44,"") | I44: -0.0579 | M44: 1305000 | N44: A | O44: https://huispedia.nl/amsterdam/1053le/bilderdijkstraat/194-3
A45: 44 | B45: Wooncomplex | C45: Berg en Dal | D45: Dorpsstraat 34, Groesbeek | E45: 350000 | F45: 21500 | G45: =IF(E45>0,F45/E45,"") | H45: =IF(F45>0,E45/F45,"") | I45: 0.0557 | J45: 331518 | K45: 320808 | L45: 303466 | M45: 315000 | N45: C | O45: https://kadastralekaart.com/adres/groesbeek-dorpsstraat-34/0241200000058312
A46: 45 | B46: Wooncomplex | C46: Amsterdam | D46: Haarlemmerweg 209, Amsterdam | E46: 1325000 | F46: 78738 | G46: =IF(E46>0,F46/E46,"") | H46: =IF(F46>0,E46/F46,"") | I46: 0.0511 | J46: 1230282 | K46: 1190420 | L46: 1126013 | M46: 1192500 | N46: B | O46: https://www.beleggingspanden.nl/nl/aanbod/amsterdam-haarlemmerweg-209-16669
A47: 46 | B47: Zelfstandig | C47: Hilversum | D47: C. Evertsenstraat 185, Hilversum | E47: 250000 | F47: 14412 | G47: =IF(E47>0,F47/E47,"") | H47: =IF(F47>0,E47/F47,"") | I47: 0.0349 | J47: 219536 | K47: 213556 | L47: 203882 | M47: 225000 | N47: B | O47: https://www.beleggingspanden.nl/nl/nieuw-aanbod/week-12-2026
A48: 47 | B48: Wooncomplex | C48: Meppel | D48: Koekoekstraat 4-14, Meppel | E48: 1250000 | F48: 62480 | G48: =IF(E48>0,F48/E48,"") | H48: =IF(F48>0,E48/F48,"") | I48: 0.0057 | J48: 974047 | K48: 953131 | L48: 919597 | M48: 1125000 | N48: A | O48: https://www.beleggingspanden.nl/nl/aanbod/meppel-koekoekstraat-4-14-16680
A49: 48 | B49: Zelfstandig | C49: Noordwijk | D49: Clusiusweg 80, Noordwijk | E49: 450000 | F49: 23735 | G49: =IF(E49>0,F49/E49,"") | H49: =IF(F49>0,E49/F49,"") | I49: 0.0158 | J49: 366421 | K49: 357837 | L49: 344016 | M49: 405000 | N49: B | O49: https://www.beleggingspanden.nl/nl/nieuw-aanbod/week-12-2026
A50: 49 | B50: Kamerverhuur | C50: Roosendaal | D50: Wouwbaan 230, Roosendaal | E50: 435000 | F50: 30600 | G50: =IF(E50>0,F50/E50,"") | H50: =IF(F50>0,E50/F50,"") | I50: 0.0928 | J50: 474845 | K50: 455796 | L50: 424892 | M50: 391500 | N50: A | O50: https://www.beleggingspanden.nl/nl/nieuw-aanbod/week-13-2026
A51: 50 | B51: Kamerverhuur | C51: Amsterdam | D51: Thorn Prikkerstraat 6, Amsterdam | E51: 550000 | F51: 31320 | G51: =IF(E51>0,F51/E51,"") | H51: =IF(F51>0,E51/F51,"") | I51: 0.0376 | J51: 485713 | K51: 471721 | L51: 449126 | M51: 495000 | N51: A | O51: https://www.beleggingspanden.nl/nl/aanbod/amsterdam-thorn-prikkerstraat-6-16692
A52: 51 | B52: Kamerverhuur | C52: Delft | D52: Prins Mauritsstraat 33, Delft | E52: 430000 | F52: 28968 | G52: =IF(E52>0,F52/E52,"") | H52: =IF(F52>0,E52/F52,"") | I52: 0.0813 | J52: 449104 | K52: 432091 | L52: 404506 | M52: 387000 | N52: A | O52: https://www.beleggingspanden.nl/nl/aanbod/delft-prins-mauritsstraat-33-16695
A53: 52 | B53: Kamerverhuur | C53: Nieuwegein | D53: Havezatedrift 57, Nieuwegein | E53: 320000 | F53: 26832 | G53: =IF(E53>0,F53/E53,"") | H53: =IF(F53>0,E53/F53,"") | I53: 0.1393 | J53: 415776 | K53: 395971 | L53: 363775 | M53: 288000 | N53: B | O53: https://www.beleggingspanden.nl/nl/nieuw-aanbod/week-13-2026
A54: 53 | B54: Zelfstandig | C54: Leidschendam-Voorburg | D54: Brinnolaan 3, Voorburg | E54: 210000 | F54: 14990 | G54: =IF(E54>0,F54/E54,"") | H54: =IF(F54>0,E54/F54,"") | I54: 0.0914 | J54: 227512 | K54: 218661 | L54: 204283 | M54: 189000 | N54: C | O54: https://huispedia.nl/voorburg/2273hv/brinnolaan/3
A55: 54 | B55: Wooncomplex | C55: Sittard-Geleen | D55: Burgemeester Lemmensstraat 88-94, Geleen | E55: 2000000 | F55: 120122 | G55: =IF(E55>0,F55/E55,"") | H55: =IF(F55>0,E55/F55,"") | I55: 0.0543 | J55: 1879931 | K55: 1817428 | L55: 1716427 | M55: 1800000 | N55: A | O55: https://www.beleggingspanden.nl/nl/aanbod/sittard-geleen-burg-lemmensstraat-88-94-16701
A56: 55 | B56: Zelfstandig | C56: Den Haag | D56: Juliana van Stolberglaan 288, Den Haag | E56: 459000 | F56: 27540 | G56: =IF(E56>0,F56/E56,"") | H56: =IF(F56>0,E56/F56,"") | I56: 0.0508 | J56: 426445 | K56: 412975 | L56: 391185 | M56: 413100 | N56: B | O56: https://www.beleggingspanden.nl/nl/nieuw-aanbod/week-16-2026
A57: 56 | B57: Zelfstandig | C57: Brielle | D57: Hoogaars 30, Brielle | E57: 210000 | F57: 8942 | G57: =IF(E57>0,F57/E57,"") | H57: =IF(F57>0,E57/F57,"") | I57: -0.0632 | M57: 189000 | N57: B | O57: https://www.beleggingspanden.nl/nl/nieuw-aanbod/week-16-2026
A58: 57 | B58: Zelfstandig | C58: Winterswijk | D58: Vredenseweg 85, Winterswijk | E58: 200000 | F58: 9300 | G58: =IF(E58>0,F58/E58,"") | H58: =IF(F58>0,E58/F58,"") | I58: -0.0364 | M58: 180000 | N58: B | O58: https://www.beleggingspanden.nl/nl/aanbod/winterswijk-vredenseweg-85-16737
A59: 58 | B59: Zelfstandig | C59: Rotterdam | D59: West-Varkenoordseweg 117, Rotterdam | E59: 280000 | F59: 13342 | G59: =IF(E59>0,F59/E59,"") | H59: =IF(F59>0,E59/F59,"") | I59: -0.0188 | M59: 252000 | N59: B | O59: https://www.beleggingspanden.nl/nl/nieuw-aanbod/week-16-2026
A60: 59 | B60: Zelfstandig | C60: IJsselmuiden | D60: Sportlaan 12, IJsselmuiden | E60: 255000 | F60: 12000 | G60: =IF(E60>0,F60/E60,"") | H60: =IF(F60>0,E60/F60,"") | I60: -0.0246 | M60: 229500 | N60: B | O60: https://www.beleggingspanden.nl/nl/nieuw-aanbod/week-16-2026
A61: 60 | B61: Kamerverhuur | C61: Vaals | D61: Koperstraat 4, Vaals | E61: 3319660 | F61: 194000 | G61: =IF(E61>0,F61/E61,"") | H61: =IF(F61>0,E61/F61,"") | I61: 0.0476 | J61: 3038979 | K61: 2942123 | L61: 2785750 | M61: 2987694 | N61: B | O61: https://www.beleggingspanden.nl/nl/nieuw-aanbod/week-16-2026
A62: 61 | B62: Wooncomplex | C62: Amsterdam | D62: Adres niet publiek vermeld, Amsterdam | E62: 1495000 | F62: 110508 | G62: =IF(E62>0,F62/E62,"") | H62: =IF(F62>0,E62/F62,"") | I62: 0.1074 | J62: 1730868 | K62: 1655222 | L62: 1532519 | M62: 1345500 | N62: C | O62: https://www.beleggingspanden.nl/nl/nieuw-aanbod/week-17-2026
A63: 62 | B63: Zelfstandig | C63: Amsterdam | D63: Van Woustraat 35-1, Amsterdam | E63: 315000 | F63: 4305 | G63: =IF(E63>0,F63/E63,"") | H63: =IF(F63>0,E63/F63,"") | M63: 283500 | N63: B | O63: https://www.propertytraders.com/nl/verkocht/nederland-amsterdam-van-woustraat-35-1-16765
A64: 63 | B64: Wooncomplex | C64: Hillegom | D64: Haven 2A, 2B & 2C, Hillegom | E64: 480000 | F64: 22052 | G64: =IF(E64>0,F64/E64,"") | H64: =IF(F64>0,E64/F64,"") | I64: -0.0227 | M64: 432000 | N64: B | O64: https://www.beleggingspanden.nl/nl/nieuw-aanbod/week-17-2026
A65: 64 | B65: Zelfstandig | C65: Prinsenbeek | D65: Sterreschans 6, Prinsenbeek | E65: 310000 | F65: 12216 | G65: =IF(E65>0,F65/E65,"") | H65: =IF(F65>0,E65/F65,"") | I65: -0.0723 | M65: 279000 | N65: A | O65: https://www.propertytraders.com/en/new-offer/week-17-2026
A66: 65 | B66: Zelfstandig | C66: Dordrecht | D66: Jacob Marisstraat 88, Dordrecht | E66: 175000 | F66: 11171 | G66: =IF(E66>0,F66/E66,"") | H66: =IF(F66>0,E66/F66,"") | I66: 0.0549 | J66: 165419 | K66: 160197 | L66: 151727 | M66: 157500 | N66: A | O66: https://www.beleggingspanden.nl/nl/nieuw-aanbod/week-19-2026
A67: 66 | B67: Zelfstandig | C67: Amsterdam | D67: Midscheeps 4, Amsterdam | E67: 380000 | F67: 30600 | G67: =IF(E67>0,F67/E67,"") | H67: =IF(F67>0,E67/F67,"") | I67: 0.1286 | J67: 475056 | K67: 453105 | L67: 417438 | M67: 342000 | N67: B | O67: https://www.kadasterdata.nl/amsterdam/midscheeps/4
A68: 67 | B68: Kamerverhuur | C68: Roosendaal | D68: Kalsdonksestraat 7, Roosendaal | E68: 400000 | F68: 31200 | G68: =IF(E68>0,F68/E68,"") | H68: =IF(F68>0,E68/F68,"") | I68: 0.1202 | J68: 484453 | K68: 462711 | L68: 427397 | M68: 360000 | N68: B | O68: https://www.beleggingspanden.nl/nl/aanbod/roosendaal-kalsdonksestraat-7-16819
A69: 68 | B69: Zelfstandig | C69: Almere | D69: Flevostraat 38, Almere | E69: 230000 | F69: 11012 | G69: =IF(E69>0,F69/E69,"") | H69: =IF(F69>0,E69/F69,"") | I69: -0.022 | M69: 207000 | N69: B | O69: https://www.beleggingspanden.nl/nl/nieuw-aanbod/week-20-2026
A70: 69 | B70: Wooncomplex | C70: Zaanstad | D70: Noorderkerkstraat 1A-1K, 2A-2K, 3A-3K, 4A-4K, Zaandam | E70: 6000000 | F70: 385000 | G70: =IF(E70>0,F70/E70,"") | H70: =IF(F70>0,E70/F70,"") | I70: 0.0717 | J70: 6039379 | K70: 5815053 | L70: 5452081 | M70: 5400000 | N70: A | O70: https://www.beleggingspanden.nl/nl/nieuw-aanbod/week-20-2026
A71: 70 | B71: Zelfstandig | C71: Hoensbroek | D71: Nieuwstraat 13A, Hoensbroek | E71: 145000 | F71: 9744 | G71: =IF(E71>0,F71/E71,"") | H71: =IF(F71>0,E71/F71,"") | I71: 0.0616 | J71: 140534 | K71: 135883 | L71: 128336 | M71: 130500 | N71: B | O71: https://www.beleggingspanden.nl/nl/nieuw-aanbod/week-20-2026
A72: 71 | B72: Zelfstandig | C72: Hoensbroek | D72: Nieuwstraat 13B, Hoensbroek | E72: 135000 | F72: 9000 | G72: =IF(E72>0,F72/E72,"") | H72: =IF(F72>0,E72/F72,"") | I72: 0.0554 | J72: 127817 | K72: 123751 | L72: 117158 | M72: 121500 | N72: B | O72: https://www.beleggingspanden.nl/nl/nieuw-aanbod/week-20-2026
A73: 72 | B73: Zelfstandig | C73: Amsterdam | D73: Faas Wilkesstraat 389, Amsterdam | E73: 475000 | F73: 29400 | G73: =IF(E73>0,F73/E73,"") | H73: =IF(F73>0,E73/F73,"") | I73: 0.0592 | J73: 455737 | K73: 440491 | L73: 415811 | M73: 427500 | N73: B | O73: https://www.beleggingspanden.nl/nl/nieuw-aanbod/week-20-2026
A74: 73 | B74: Zelfstandig | C74: Montfoort | D74: Lieve Vrouwegracht 12, Montfoort | E74: 300000 | F74: 18427 | G74: =IF(E74>0,F74/E74,"") | H74: =IF(F74>0,E74/F74,"") | I74: 0.0546 | J74: 283160 | K74: 274145 | L74: 259542 | M74: 270000 | N74: B | O74: https://www.beleggingspanden.nl/nl/aanbod/montfoort-lieve-vrouwegracht-12-16830
A75: 74 | B75: Kamerverhuur | C75: Boxtel | D75: Van Merheimstraat 14, Boxtel | E75: 190000 | F75: 10800 | G75: =IF(E75>0,F75/E75,"") | H75: =IF(F75>0,E75/F75,"") | I75: 0.024 | J75: 160453 | K75: 156497 | L75: 150098 | M75: 171000 | N75: B | O75: https://huispedia.nl/boxtel/5282sw/van-merheimstraat/14
A76: 75 | B76: Zelfstandig | C76: Amsterdam | D76: Hoofdweg 132-2, Amsterdam | E76: 290000 | F76: 5149 | G76: =IF(E76>0,F76/E76,"") | H76: =IF(F76>0,E76/F76,"") | M76: 261000 | N76: A | O76: https://huispedia.nl/amsterdam/1057da/hoofdweg/132-2
A77: 76 | B77: Wooncomplex | C77: Roermond | D77: Nassaustraat 26A, Roermond | E77: 345000 | F77: 34200 | G77: =IF(E77>0,F77/E77,"") | H77: =IF(F77>0,E77/F77,"") | I77: 0.1858 | J77: 517500 | K77: 503132 | L77: 456159 | M77: 310500 | N77: B | O77: https://allecijfers.nl/postcode/6043EC/
A78: 77 | B78: Overig | C78: Tilburg | D78: Bredaseweg 164, Tilburg | E78: 350000 | F78: 22200 | G78: =IF(E78>0,F78/E78,"") | H78: =IF(F78>0,E78/F78,"") | I78: 0.0643 | J78: 342567 | K78: 330871 | L78: 311919 | M78: 315000 | N78: B | O78: https://www.beleggingspanden.nl/nl/nieuw-aanbod/week-21-2026
A79: 78 | B79: Kamerverhuur | C79: Roosendaal | D79: Molenstraat 73-75, Roosendaal | E79: 950000 | F79: 68435 | G79: =IF(E79>0,F79/E79,"") | H79: =IF(F79>0,E79/F79,"") | I79: 0.1004 | J79: 1069604 | K79: 1024443 | L79: 951199 | M79: 855000 | N79: A | O79: https://www.fundainbusiness.nl/belegging/roosendaal/object-43322157-molenstraat-73/
A80: 79 | B80: Wooncomplex | C80: Gennep | D80: Heijenseweg 1-7, Gennep | E80: 1100000 | F80: 65977 | G80: =IF(E80>0,F80/E80,"") | H80: =IF(F80>0,E80/F80,"") | I80: 0.0532 | J80: 1030030 | K80: 996260 | L80: 941676 | M80: 990000 | N80: A | O80: https://www.beleggingspanden.nl/nl/aanbod/gennep-heijenseweg-1-7-16869
A81: 80 | B81: Kamerverhuur | C81: Amsterdam | D81: Burgemeester Hogguerstraat 771, Amsterdam | E81: 475000 | F81: 30542 | G81: =IF(E81>0,F81/E81,"") | H81: =IF(F81>0,E81/F81,"") | I81: 0.0693 | J81: 473763 | K81: 456908 | L81: 429602 | M81: 427500 | N81: A | O81: https://www.beleggingspanden.nl/nl/aanbod/amsterdam-burgemeester-hogguerstraat-771-16877
A82: 81 | B82: Kamerverhuur | C82: Tilburg | D82: Europalaan 373, Tilburg | E82: 355000 | F82: 26935 | G82: =IF(E82>0,F82/E82,"") | H82: =IF(F82>0,E82/F82,"") | I82: 0.1125 | J82: 417292 | K82: 399187 | L82: 369782 | M82: 319500 | N82: B | O82: https://www.beleggingspanden.nl/nl/nieuw-aanbod/week-22-2026
A83: 82 | B83: Kamerverhuur | C83: Tilburg | D83: IJskelderstraat 2, Tilburg | E83: 398000 | F83: 27000 | G83: =IF(E83>0,F83/E83,"") | H83: =IF(F83>0,E83/F83,"") | I83: 0.0829 | J83: 418164 | K83: 402236 | L83: 376404 | M83: 358200 | N83: A | O83: https://www.beleggingspanden.nl/nl/nieuw-aanbod/week-22-2026
A84: 83 | B84: Zelfstandig | C84: Rotterdam | D84: Mathenesserlaan 484B, Rotterdam | E84: 525000 | F84: 28748 | G84: =IF(E84>0,F84/E84,"") | H84: =IF(F84>0,E84/F84,"") | I84: 0.0269 | J84: 445227 | K84: 433540 | L84: 414691 | M84: 472500 | N84: A | O84: https://www.fundainbusiness.nl/belegging/rotterdam/object-89490686-mathenesserlaan-484-b/
A85: 84 | B85: Zelfstandig | C85: Almelo | D85: Deldensestraat 24, Almelo | E85: 180000 | F85: 10752 | G85: =IF(E85>0,F85/E85,"") | H85: =IF(F85>0,E85/F85,"") | I85: 0.0366 | J85: 159105 | K85: 154721 | L85: 147620 | M85: 162000 | N85: B | O85: https://www.beleggingspanden.nl/nl/aanbod/almelo-deldensestraat-24-16880
A86: 85 | B86: Zelfstandig | C86: Heerlen | D86: Fossielenerf 632, Heerlen | E86: 280000 | F86: 20340 | G86: =IF(E86>0,F86/E86,"") | H86: =IF(F86>0,E86/F86,"") | I86: 0.0999 | J86: 313404 | K86: 300640 | L86: 279909 | M86: 252000 | N86: B | O86: https://woningstats.nl/verwachte-verkoopprijs/heerlen/6413mn/fossielenerf-632
A87: 86 | B87: Kamerverhuur | C87: Delft | D87: Koornmarkt 43A, Delft | E87: 695000 | F87: 41304 | G87: =IF(E87>0,F87/E87,"") | H87: =IF(F87>0,E87/F87,"") | I87: 0.0498 | J87: 642624 | K87: 622222 | L87: 589242 | M87: 625500 | N87: C | O87: https://www.beleggingspanden.nl/nl/nieuw-aanbod/week-23-2026
A88: 87 | B88: Zelfstandig | C88: Diemen | D88: Burgemeester de Kievietstraat 42, Diemen | E88: 290000 | F88: 11657 | G88: =IF(E88>0,F88/E88,"") | H88: =IF(F88>0,E88/F88,"") | I88: -0.0674 | M88: 261000 | N88: B | O88: https://www.beleggingspanden.nl/nl/nieuw-aanbod/week-23-2026
A89: 88 | B89: Overig | C89: Zwolle | D89: Deventerstraatweg 5 & Groenestraat 73, Zwolle | E89: 495000 | F89: 27557 | G89: =IF(E89>0,F89/E89,"") | H89: =IF(F89>0,E89/F89,"") | I89: 0.0311 | J89: 426560 | K89: 414966 | L89: 396256 | M89: 445500 | N89: B | O89: https://www.beleggingspanden.nl/nl/nieuw-aanbod/week-23-2026
A90: 89 | B90: Kamerverhuur | C90: Geertruidenberg | D90: Graaf Willem I Straat 33, Geertruidenberg | E90: 525000 | F90: 45600 | G90: =IF(E90>0,F90/E90,"") | H90: =IF(F90>0,E90/F90,"") | I90: 0.1494 | J90: 711233 | K90: 675798 | L90: 618206 | M90: 472500 | N90: C | O90: https://www.beleggingspanden.nl/nl/nieuw-aanbod/week-23-2026
A91: 90 | B91: Zelfstandig | C91: Hilversum | D91: Ruitersweg 20B, Hilversum | E91: 150000 | F91: 8455 | G91: =IF(E91>0,F91/E91,"") | H91: =IF(F91>0,E91/F91,"") | I91: 0.0106 | J91: 120649 | K91: 118047 | M91: 135000 | N91: B | O91: https://www.beleggingspanden.nl/nl/nieuw-aanbod/week-23-2026
A92: 91 | B92: Kamerverhuur | C92: Arnhem | D92: Hommelseweg 286A, Arnhem | E92: 280000 | F92: 19440 | G92: =IF(E92>0,F92/E92,"") | H92: =IF(F92>0,E92/F92,"") | I92: 0.0876 | J92: 299198 | K92: 287701 | L92: 269040 | M92: 252000 | N92: C | O92: https://www.beleggingspanden.nl/nl/nieuw-aanbod/week-23-2026
A93: 92 | B93: Wooncomplex | C93: Kampen | D93: Sint Jacobstraat 1, Kampen | E93: 625000 | F93: 40140 | G93: =IF(E93>0,F93/E93,"") | H93: =IF(F93>0,E93/F93,"") | I93: 0.0698 | J93: 624587 | K93: 602127 | L93: 565755 | M93: 562500 | N93: A | O93: https://www.beleggingspanden.nl/nl/aanbod/kampen-sint-jacobstraat-1-16921
A94: 93 | B94: Wooncomplex | C94: Vlaardingen | D94: Geert Grootelaan 229 + Vettenoordstraat 60C + Van der Driftstraat 32, Vlaardingen | E94: 605000 | F94: 34093 | G94: =IF(E94>0,F94/E94,"") | H94: =IF(F94>0,E94/F94,"") | I94: 0.0353 | J94: 529230 | K94: 514236 | L94: 490032 | M94: 544500 | N94: B | O94: https://allecijfers.nl/postcode/3132CD/
A95: 94 | B95: Kamerverhuur | C95: Meppel | D95: Stationsweg 3A, 3B, 3C & 3D, Meppel | E95: 2950000 | F95: 215944 | G95: =IF(E95>0,F95/E95,"") | H95: =IF(F95>0,E95/F95,"") | I95: 0.1051 | J95: 3387355 | K95: 3240038 | L95: 3001148 | M95: 2655000 | N95: B | O95: https://www.beleggingspanden.nl/nl/nieuw-aanbod/week-24-2026
A96: 95 | B96: Wooncomplex | C96: Tilburg | D96: Smidspad 73, 73A & 73B, Tilburg | E96: 710000 | F96: 45960 | G96: =IF(E96>0,F96/E96,"") | H96: =IF(F96>0,E96/F96,"") | I96: 0.0722 | J96: 716045 | K96: 689874 | L96: 647491 | M96: 639000 | N96: A | O96: https://www.beleggingspanden.nl/nl/nieuw-aanbod/week-26-2026
A97: 96 | B97: Zelfstandig | C97: Maassluis | D97: Noordvliet 28-RD, Maassluis | E97: 165000 | F97: 7368 | G97: =IF(E97>0,F97/E97,"") | H97: =IF(F97>0,E97/F97,"") | I97: -0.0614 | M97: 148500 | N97: C | O97: https://zoek.officielebekendmakingen.nl/gmb-2025-210432.html
A98: 97 | B98: Kamerverhuur | C98: Rotterdam | D98: Walenburgerweg 110, Rotterdam | E98: 1445000 | F98: 129660 | G98: =IF(E98>0,F98/E98,"") | H98: =IF(F98>0,E98/F98,"") | I98: 0.1583 | J98: 2033443 | K98: 1928167 | L98: 1757096 | M98: 1300500 | N98: B | O98: https://www.omgevingsalert.nl/meldingen/8732506-vergunning-van-rechtswege-kamerbewoning-walenburgerweg-110b ; https://www.omgevingsalert.nl/meldingen/8405028-vergunning-kamerverhuur-walenburgerweg-110c
A99: 98 | B99: Zelfstandig | C99: Rotterdam | D99: Bas Jungeriusstraat 13, Rotterdam | E99: 180000 | F99: 11112 | G99: =IF(E99>0,F99/E99,"") | H99: =IF(F99>0,E99/F99,"") | I99: 0.0462 | J99: 164787 | K99: 159896 | L99: 151967 | M99: 162000 | N99: A | O99: https://www.beleggingspanden.nl/nl/nieuw-aanbod/week-26-2026
A100: 99 | B100: Zelfstandig | C100: Arnhem | D100: Atjehstraat 8, Arnhem | E100: 230000 | F100: 11220 | G100: =IF(E100>0,F100/E100,"") | H100: =IF(F100>0,E100/F100,"") | I100: -0.0161 | M100: 207000 | N100: A | O100: https://www.beleggingspanden.nl/nl/nieuw-aanbod/week-26-2026
A101: 100 | B101: Overig | C101: Nijmegen | D101: Neptunusstraat 72, Nijmegen | E101: 220000 | F101: 12168 | G101: =IF(E101>0,F101/E101,"") | H101: =IF(F101>0,E101/F101,"") | I101: 0.0204 | J101: 183329 | K101: 178965 | L101: 171913 | M101: 198000 | N101: B | O101: https://www.beleggingspanden.nl/nl/nieuw-aanbod/week-26-2026
...

Sheet Toelichting
A1: Koopbarometer: 115 te koop staande beleggingspanden
A2: Momentopname augustus 2026, peildatum 08-08-2026. Bron: Brondata: openbare vastgoedaanbiedingen en openbare overheidsdata. Berekeningen: De Vastgoedrealist.
A4: Kerncijfers (rekenen live uit het blad Panden)
A6: Aantal panden | B6: =COUNTA(Panden!A2:A116)
A7: Mediane BAR (kale jaarhuur / vraagprijs) | B7: =MEDIAN(Panden!G2:G116)
A8: Mediane kapitalisatiefactor (vraagprijs / jaarhuur) | B8: =MEDIAN(Panden!H2:H116)
A9: Mediaan rendement op eigen geld bij vraagprijs (IRR) | B9: =MEDIAN(Panden!I2:I116)
A10: Mediane vraagprijs | B10: =MEDIAN(Panden!E2:E116)
A12: Wat de kolommen betekenen
A13: BAR = kale jaarhuur gedeeld door de vraagprijs (bruto, vóór kosten, belasting en financiering).
A14: Kapitalisatiefactor = vraagprijs gedeeld door de kale jaarhuur: hoeveel keer de jaarhuur je betaalt.
A15: IRR = rendement op je eigen ingelegde geld, berekend met de Pandanalyse-motor: DCF over 10 jaar, na belasting (Box 3), inclusief verkoop aan het eind.
A16: Biedprijs voor 7/8/10% = de prijs waarbij je precies dat rendement op eigen geld haalt.
A18: Uniforme aannames (gelijk voor alle panden, zodat ze vergelijkbaar zijn)
A19: Financiering 70% van de koopsom tegen 5.5% rente.
A20: Exploitatiekosten als deel van de huur: zelfstandig 25%, kamerverhuur 35%, wooncomplex 30%, overig 30%.
A21: Datakwaliteit A/B/C geeft aan hoe volledig en betrouwbaar de brongegevens van de aanbieding waren.
A23: Gebruik
A24: Vrij te gebruiken met bronvermelding: De Vastgoedrealist, vastgoedrealist.nl. Geen advies; een momentopname van vraagprijzen, niet van transacties.
A25: Analyse: https://www.vastgoedrealist.nl/artikelen/beleggingspanden-rendement-doorgerekend-2026.html
A26: Live cijfers: https://www.vastgoedrealist.nl/koopbarometer.html · Methode: https://www.vastgoedrealist.nl/methode.html
