Workbook

Sheet Panden
A1: Nr | B1: Meetweek 2026 | C1: Nieuw in sept-update | D1: Categorie | E1: Stad | F1: Adres | G1: Vraagprijs (€) | H1: Kale jaarhuur (€) | I1: BAR | J1: Haalt 7% | K1: Kapitalisatiefactor | L1: Rendement op eigen geld bij vraagprijs (IRR) | M1: Biedprijs voor 7% IRR (€) | N1: Biedprijs voor 8% IRR (€) | O1: Biedprijs voor 10% IRR (€) | P1: Datakwaliteit | Q1: Status volgens aanbieding | R1: Bron (aanbieding)
A2: 1 | B2: 1 | D2: Zelfstandig | E2: Rotterdam | F2: Willem van Hillegaersbergstraat 43-C, Rotterdam | G2: 450000 | H2: 29700 | I2: =IF(G2>0,H2/G2,"") | J2: =IF(I2>=0.07,"ja","nee") | K2: =IF(H2>0,G2/H2,"") | L2: 0.0761 | M2: 460577 | N2: 443588 | O2: 416053 | P2: B | Q2: Duurzaam gerenoveerd appartement Hillegersberg-Zuid, kortlopend verhuurd | R2: https://www.beleggingspanden.nl/nl/aanbod/rotterdam-willem-van-hillegaersbergstraat-43-c-16462
A3: 2 | B3: 1 | D3: Kamerverhuur | E3: Breda | F3: Tasmanstraat 33, Breda | G3: 403000 | H3: 34519 | I3: =IF(G3>0,H3/G3,"") | J3: =IF(I3>=0.07,"ja","nee") | K3: =IF(H3>0,G3/H3,"") | L3: 0.1454 | M3: 536831 | N3: 510571 | O3: 467886 | P3: B | Q3: Vijf kamers, kamerverhuurvergunning; oplevering leeg of verhuurd mogelijk | R3: https://www.beleggingspanden.nl/nl/aanbod/breda-tasmanstraat-33-16471
A4: 3 | B4: 2 | D4: Zelfstandig | E4: 's-Hertogenbosch | F4: Steve Bikostraat 2, 's-Hertogenbosch | G4: 275000 | H4: 14459 | I4: =IF(G4>0,H4/G4,"") | J4: =IF(I4>=0.07,"ja","nee") | K4: =IF(H4>0,G4/H4,"") | L4: 0.0101 | M4: 220549 | N4: 215809 | O4: 208169 | P4: B | Q4: Verhuurd strategisch beleggingsobject, aangeboden onder WOZ/leegwaarde | R4: https://www.beleggingspanden.nl/nl/aanbod/s%E2%80%98-hertogenbosch-steve-bikostraat-2-16483
A5: 4 | B5: 2 | D5: Wooncomplex | E5: Kerkrade | F5: Drievogelstraat 33, 33A & 33B, Kerkrade | G5: 450000 | H5: 33660 | I5: =IF(G5>0,H5/G5,"") | J5: =IF(I5>=0.07,"ja","nee") | K5: =IF(H5>0,G5/H5,"") | L5: 0.1092 | M5: 523085 | N5: 500516 | O5: 463876 | P5: B | Q5: 3 volledig verhuurde appartementen | R5: https://www.beleggingspanden.nl/nl/aanbod/plaats/Kerkrade
A6: 5 | B6: 2 | D6: Wooncomplex | E6: Heerlen | F6: Sittarderweg 48, 48A & 48B, Heerlen | G6: 480000 | H6: 39600 | I6: =IF(G6>0,H6/G6,"") | J6: =IF(I6>=0.07,"ja","nee") | K6: =IF(H6>0,G6/H6,"") | L6: 0.1354 | M6: 616721 | N6: 587365 | O6: 539668 | P6: C | Q6: 3 volledig verhuurde appartementen | R6: https://allecijfers.nl/postcode/6412CG/
A7: 6 | B7: 2 | D7: Wooncomplex | E7: Heerlen | F7: Reestraat 19, 19B & 19C, Heerlen | G7: 360000 | H7: 27600 | I7: =IF(G7>0,H7/G7,"") | J7: =IF(I7>=0.07,"ja","nee") | K7: =IF(H7>0,G7/H7,"") | L7: 0.1153 | M7: 427772 | N7: 408994 | O7: 378493 | P7: B | Q7: Twee volledig verhuurde appartementen | R7: https://www.beleggingspanden.nl/nl/aanbod/heerlen-reestraat-19-19b-19c-16492
A8: 7 | B8: 2 | D8: Zelfstandig | E8: Landgraaf | F8: Prins Bernhardstraat 22, Landgraaf | G8: 225000 | H8: 14736 | I8: =IF(G8>0,H8/G8,"") | J8: =IF(I8>=0.07,"ja","nee") | K8: =IF(H8>0,G8/H8,"") | L8: 0.0689 | M8: 224045 | N8: 216318 | O8: 203780 | P8: B | Q8: Verhuurde eengezinswoning met tuin | R8: https://www.beleggingspanden.nl/nl/aanbod/landgraaf-prins-bernhardstraat-22-16493
A9: 8 | B9: 2 | D9: Zelfstandig | E9: Purmerend | F9: Roggebotstraat 14, Purmerend | G9: 290000 | H9: 15594 | I9: =IF(G9>0,H9/G9,"") | J9: =IF(I9>=0.07,"ja","nee") | K9: =IF(H9>0,G9/H9,"") | L9: 0.0172 | M9: 238467 | N9: 232916 | O9: 223962 | P9: A | Q9: Onbepaalde tijd volgens listing | R9: https://huispedia.nl/purmerend/1448rv/roggebotstraat/14
A10: 9 | B10: 2 | D10: Zelfstandig | E10: Lelystad | F10: Fjord 74, Lelystad | G10: 200000 | H10: 10737 | I10: =IF(G10>0,H10/G10,"") | J10: =IF(I10>=0.07,"ja","nee") | K10: =IF(H10>0,G10/H10,"") | L10: 0.0087 | M10: 159941 | N10: 156577 | O10: 151148 | P10: A | Q10: Verhuurd voor onbepaalde tijd | R10: https://www.beleggingspanden.nl/nl/nieuw-aanbod/week-2-2026
A11: 10 | B11: 2 | D11: Zelfstandig | E11: Nissewaard | F11: Jacob Catsstraat 62, Spijkenisse | G11: 165000 | H11: 10020 | I11: =IF(G11>0,H11/G11,"") | J11: =IF(I11>=0.07,"ja","nee") | K11: =IF(H11>0,G11/H11,"") | L11: 0.038 | M11: 146546 | N11: 142458 | O11: 135837 | P11: A | Q11: Verhuurd voor onbepaalde tijd | R11: https://www.beleggingspanden.nl/nl/nieuw-aanbod/week-2-2026
A12: 11 | B12: 3 | D12: Wooncomplex | E12: Den Haag | F12: Valkenboslaan 294 & 294A, Den Haag | G12: 420000 | H12: 23067 | I12: =IF(G12>0,H12/G12,"") | J12: =IF(I12>=0.07,"ja","nee") | K12: =IF(H12>0,G12/H12,"") | L12: 0.0264 | M12: 355997 | N12: 346772 | O12: 331888 | P12: B | Q12: Twee verhuurde, ongesplitste appartementen | R12: https://www.beleggingspanden.nl/nl/nieuw-aanbod/week-3-2026
A13: 12 | B13: 4 | D13: Kamerverhuur | E13: Tilburg | F13: Brasemstraat 16, Tilburg | G13: 427000 | H13: 32230 | I13: =IF(G13>0,H13/G13,"") | J13: =IF(I13>=0.07,"ja","nee") | K13: =IF(H13>0,G13/H13,"") | L13: 0.1115 | M13: 500606 | N13: 478838 | O13: 443494 | P13: A | Q13: Verhuurd kamerverhuurpand | R13: https://www.beleggingspanden.nl/nl/aanbod/tilburg-brasemstraat-16-16507
A14: 13 | B14: 4 | D14: Wooncomplex | E14: Amsterdam | F14: Maarten Harpertszoon Trompstraat 3, Amsterdam | G14: 2750000 | H14: 119580 | I14: =IF(G14>0,H14/G14,"") | J14: =IF(I14>=0.07,"ja","nee") | K14: =IF(H14>0,G14/H14,"") | L14: -0.0294 | P14: B | Q14: 4 zelfstandige verhuurde appartementen | R14: https://www.beleggingspanden.nl/nl/nieuw-aanbod/week-4-2026
A15: 14 | B15: 4 | D15: Wooncomplex | E15: Amsterdam | F15: Valutaboulevard 12, 12B & 2C (zoals listing), Amsterdam | G15: 1250000 | H15: 75639 | I15: =IF(G15>0,H15/G15,"") | J15: =IF(I15>=0.07,"ja","nee") | K15: =IF(H15>0,G15/H15,"") | L15: 0.0557 | M15: 1181759 | N15: 1142301 | O15: 1078513 | P15: B | Q15: 3 verhuurde appartementen | R15: https://allecijfers.nl/postcode/1060RX
A16: 15 | B16: 4 | D16: Zelfstandig | E16: Woerden | F16: Achterstraat 10A, Woerden | G16: 110000 | H16: 7440 | I16: =IF(G16>0,H16/G16,"") | J16: =IF(I16>=0.07,"ja","nee") | K16: =IF(H16>0,G16/H16,"") | L16: 0.0456 | M16: 100433 | N16: 97444 | O16: 92601 | P16: A | Q16: Verhuurde studio in centrum; lopend huurcontract | R16: https://www.beleggingspanden.nl/nl/nieuw-aanbod/week-4-2026
A17: 16 | B17: 4 | D17: Kamerverhuur | E17: Den Haag | F17: Lekstraat 89A, Den Haag | G17: 350000 | H17: 22864 | I17: =IF(G17>0,H17/G17,"") | J17: =IF(I17>=0.07,"ja","nee") | K17: =IF(H17>0,G17/H17,"") | L17: 0.0723 | M17: 353049 | N17: 340417 | O17: 319938 | P17: B | Q17: Vier huurders; contracten liepen volgens bron tot 24-07-2026 | R17: https://www.beleggingspanden.nl/nl/nieuw-aanbod/week-4-2026
A18: 17 | B18: 4 | D18: Kamerverhuur | E18: Utrecht | F18: Hartingstraat 16, 16A & 16BS, Utrecht | G18: 1200000 | H18: 67391 | I18: =IF(G18>0,H18/G18,"") | J18: =IF(I18>=0.07,"ja","nee") | K18: =IF(H18>0,G18/H18,"") | L18: 0.0363 | M18: 1051828 | N18: 1021350 | O18: 972188 | P18: B | Q18: Kamerverhuur / meerdere huurders | R18: https://www.beleggingspanden.nl/nl/nieuw-aanbod/week-4-2026
A19: 18 | B19: 4 | D19: Zelfstandig | E19: Gouda | F19: Nansenstraat 33, Gouda | G19: 230000 | H19: 12360 | I19: =IF(G19>0,H19/G19,"") | J19: =IF(I19>=0.07,"ja","nee") | K19: =IF(H19>0,G19/H19,"") | L19: 0.013 | M19: 186675 | N19: 182553 | O19: 175900 | P19: B | Q19: Verhuurd volgens frozen listing | R19: https://www.beleggingspanden.nl/nl/nieuw-aanbod/week-4-2026
A20: 19 | B20: 5 | D20: Wooncomplex | E20: Rotterdam | F20: Dordtselaan 214 C01/C02, Rotterdam | G20: 810000 | H20: 78000 | I20: =IF(G20>0,H20/G20,"") | J20: =IF(I20>=0.07,"ja","nee") | K20: =IF(H20>0,G20/H20,"") | L20: 0.1775 | M20: 1215000 | N20: 1155259 | O20: 1047884 | P20: B | Q20: 2 appartementen + 6 zelfstandige studios; volledig verhuurd volgens listing | R20: https://vastgoedjournaal.nl/beleggingspanden/pand/16281
A21: 20 | B21: 5 | D21: Wooncomplex | E21: Leeuwarden | F21: Tuinen 36, Leeuwarden | G21: 1150000 | H21: 76810 | I21: =IF(G21>0,H21/G21,"") | J21: =IF(I21>=0.07,"ja","nee") | K21: =IF(H21>0,G21/H21,"") | L21: 0.081 | M21: 1200767 | N21: 1154373 | O21: 1079220 | P21: B | Q21: Zeven verhuurde woonruimtes in binnenstad | R21: https://www.beleggingspanden.nl/nl/aanbod/leeuwarden-tuinen-36-16542
A22: 21 | B22: 5 | D22: Kamerverhuur | E22: Roosendaal | F22: Barietdijk 190, Roosendaal | G22: 360000 | H22: 26352 | I22: =IF(G22>0,H22/G22,"") | J22: =IF(I22>=0.07,"ja","nee") | K22: =IF(H22>0,G22/H22,"") | L22: 0.1029 | M22: 408072 | N22: 391053 | O22: 363421 | P22: A | Q22: Vergund voor vier personen | R22: https://www.beleggingspanden.nl/dynamic/panden.php?pandreactie=1520
A23: 22 | B23: 5 | D23: Zelfstandig | E23: Nieuwegein | F23: Veenwal 154, Nieuwegein | G23: 185000 | H23: 11340 | I23: =IF(G23>0,H23/G23,"") | J23: =IF(I23>=0.07,"ja","nee") | K23: =IF(H23>0,G23/H23,"") | L23: 0.0451 | M23: 168685 | N23: 163720 | O23: 155673 | P23: A | Q23: Verhuurd voor onbepaalde tijd | R23: https://www.beleggingspanden.nl/nl/nieuw-aanbod/week-5-2026
A24: 23 | B24: 5 | D24: Kamerverhuur | E24: Utrecht | F24: Catharijnesingel 97BIS, Utrecht | G24: 389000 | H24: 22466 | I24: =IF(G24>0,H24/G24,"") | J24: =IF(I24>=0.07,"ja","nee") | K24: =IF(H24>0,G24/H24,"") | L24: 0.0396 | M24: 346629 | N24: 336615 | O24: 320428 | P24: A | Q24: Zes onzelfstandige kamers in gemeentelijk monument | R24: https://www.beleggingspanden.nl/nl/aanbod/utrecht-catharijnesingel-97bis-16550
A25: 24 | B25: 5 | D25: Zelfstandig | E25: Hallum | F25: Gedempte Haven 49, Hallum | G25: 145000 | H25: 10331 | I25: =IF(G25>0,H25/G25,"") | J25: =IF(I25>=0.07,"ja","nee") | K25: =IF(H25>0,G25/H25,"") | L25: 0.0787 | M25: 149800 | N25: 144321 | O25: 135425 | P25: B | Q25: Vrijstaande verhuurde beleggingswoning | R25: https://www.beleggingspanden.nl/nl/aanbod/hallum-gedempte-haven-49-16553
A26: 25 | B26: 5 | D26: Kamerverhuur | E26: Utrecht | F26: Vleutenseweg 217, Utrecht | G26: 800000 | H26: 46172 | I26: =IF(G26>0,H26/G26,"") | J26: =IF(I26>=0.07,"ja","nee") | K26: =IF(H26>0,G26/H26,"") | L26: 0.0425 | M26: 718946 | N26: 697231 | O26: 662164 | P26: B | Q26: Acht studio's; lopende verhuur tot in 2026 | R26: https://www.beleggingspanden.nl/nl/nieuw-aanbod/week-5-2026
... A28: 27 | B28: 6 | D28: Wooncomplex | E28: Sittard-Geleen | F28: Engelenkampstraat 82, 82A, 82B, 84 & 84A, Geleen | G28: 485000 | H28: 36840 | I28: =IF(G28>0,H28/G28,"") | J28: =IF(I28>=0.07,"ja","nee") | K28: =IF(H28>0,G28/H28,"") | L28: 0.1134 | M28: 573133 | N28: 547931 | O28: 507012 | P28: A | Q28: Vijf volledig verhuurde appartementen | R28: https://www.beleggingspanden.nl/nl/aanbod/sittard-geleen-engelenkampstraat-82-82a-82b-84-84a-16569
A29: 28 | B29: 6 | D29: Zelfstandig | E29: Den Haag | F29: Goeverneurlaan 577, Den Haag | G29: 165000 | H29: 6312 | I29: =IF(G29>0,H29/G29,"") | J29: =IF(I29>=0.07,"ja","nee") | K29: =IF(H29>0,G29/H29,"") | L29: -0.1217 | P29: B | Q29: Verhuurde beganegrondwoning met tuin, onder leegwaarde | R29: https://www.beleggingspanden.nl/nl/aanbod/den-haag-goeverneurlaan-577-16575
A30: 29 | B30: 6 | D30: Zelfstandig | E30: Winschoten | F30: M.A. de Ruyterlaan 74, Winschoten | G30: 170000 | H30: 10028 | I30: =IF(G30>0,H30/G30,"") | J30: =IF(I30>=0.07,"ja","nee") | K30: =IF(H30>0,G30/H30,"") | L30: 0.0307 | M30: 147027 | N30: 143172 | O30: 136931 | P30: A | Q30: Verhuurde eengezinswoning; onbepaalde tijd | R30: https://www.beleggingspanden.nl/nl/nieuw-aanbod/week-6-2026
A31: 30 | B31: 8 | D31: Zelfstandig | E31: Brunssum | F31: Dorpstraat 127, Brunssum | G31: 129500 | H31: 7560 | I31: =IF(G31>0,H31/G31,"") | J31: =IF(I31>=0.07,"ja","nee") | K31: =IF(H31>0,G31/H31,"") | L31: 0.0117 | M31: 104510 | N31: 102223 | P31: B | Q31: Verhuurd appartement | R31: https://www.beleggingspanden.nl/nl/aanbod/brunssum-dorpstraat-127-16585
A32: 31 | B32: 8 | D32: Wooncomplex | E32: Emmen | F32: Weerdingerkanaal Zuidzijde 1, Nieuw-Weerdinge (Emmen) | G32: 700000 | H32: 50400 | I32: =IF(G32>0,H32/G32,"") | J32: =IF(I32>=0.07,"ja","nee") | K32: =IF(H32>0,G32/H32,"") | L32: 0.0999 | M32: 786178 | N32: 753223 | O32: 699764 | P32: A | Q32: Vier duurzame appartementen, volledig verhuurd | R32: https://www.beleggingspanden.nl/nl/aanbod/emmen-weerdingerkanaal-zuidzijde-1-16602
A33: 32 | B33: 9 | D33: Zelfstandig | E33: Rotterdam | F33: Heemskerkstraat 70B, Rotterdam | G33: 195000 | H33: 6930 | I33: =IF(G33>0,H33/G33,"") | J33: =IF(I33>=0.07,"ja","nee") | K33: =IF(H33>0,G33/H33,"") | L33: -0.1383 | P33: B | Q33: Verhuurd appartement begane grond met tuin | R33: https://www.beleggingspanden.nl/nl/nieuw-aanbod/week-9-2026
A34: 33 | B34: 9 | D34: Kamerverhuur | E34: Rotterdam | F34: Socratesstraat (3 naast elkaar gelegen appartementen), Rotterdam | G34: 695000 | H34: 51432 | I34: =IF(G34>0,H34/G34,"") | J34: =IF(I34>=0.07,"ja","nee") | K34: =IF(H34>0,G34/H34,"") | L34: 0.1071 | M34: 802493 | N34: 767819 | O34: 711554 | P34: B | Q34: Drie naast elkaar gelegen appartementen in kamerverhuur | R34: https://www.beleggingspanden.nl/dynamic/panden.php?pandreactie%5B%5D=5687&stage=5
A35: 34 | B35: 10 | D35: Zelfstandig | E35: Rotterdam | F35: Dordtselaan 159C, Rotterdam | G35: 150000 | H35: 8400 | I35: =IF(G35>0,H35/G35,"") | J35: =IF(I35>=0.07,"ja","nee") | K35: =IF(H35>0,G35/H35,"") | L35: 0.0085 | M35: 119781 | N35: 117257 | P35: B | Q35: Verhuurd voor onbepaalde tijd | R35: https://www.beleggingspanden.nl/nl/nieuw-aanbod/week-10-2026
A36: 35 | B36: 11 | D36: Kamerverhuur | E36: Rotterdam | F36: Lepelaarsingel 41B, Rotterdam | G36: 249500 | H36: 17928 | I36: =IF(G36>0,H36/G36,"") | J36: =IF(I36>=0.07,"ja","nee") | K36: =IF(H36>0,G36/H36,"") | L36: 0.0959 | M36: 275027 | N36: 264067 | O36: 246266 | P36: A | Q36: Appartement met kamerverhuurvergunning voor drie personen | R36: https://www.beleggingspanden.nl/nl/aanbod/rotterdam-lepelaarsingel-41b-16633
A37: 36 | B37: 11 | D37: Kamerverhuur | E37: Utrecht | F37: Vechtplantsoen 343, Utrecht | G37: 285000 | H37: 25442 | I37: =IF(G37>0,H37/G37,"") | J37: =IF(I37>=0.07,"ja","nee") | K37: =IF(H37>0,G37/H37,"") | L37: 0.1563 | M37: 393927 | N37: 374236 | O37: 342209 | P37: C | Q37: 4 slaapkamers / kamerverhuur volgens frozen listing | R37: https://www.beleggingspanden.nl/nl/nieuw-aanbod/week-11-2026
A38: 37 | B38: 11 | D38: Wooncomplex | E38: Kampen | F38: Sint Jacobstraat 4-32, Kampen | G38: 1600000 | H38: 96051 | I38: =IF(G38>0,H38/G38,"") | J38: =IF(I38>=0.07,"ja","nee") | K38: =IF(H38>0,G38/H38,"") | L38: 0.0539 | M38: 1502109 | N38: 1452384 | O38: 1372027 | P38: B | Q38: Karakteristiek verhuurd woningcomplex | R38: https://www.beleggingspanden.nl/nl/nieuw-aanbod/week-11-2026
A39: 38 | B39: 11 | D39: Zelfstandig | E39: Den Haag | F39: Van Diepenburchstraat 43, Den Haag | G39: 460000 | H39: 21765 | I39: =IF(G39>0,H39/G39,"") | J39: =IF(I39>=0.07,"ja","nee") | K39: =IF(H39>0,G39/H39,"") | L39: -0.0146 | M39: 335283 | P39: A | Q39: Verhuurd dubbel bovenhuis | R39: https://www.beleggingspanden.nl/nl/aanbod/den-haag-van-diepenburchstraat-43-16656
A40: 39 | B40: 11 | D40: Zelfstandig | E40: Bocholtz | F40: Julianastraat 43, Bocholtz | G40: 139500 | H40: 8400 | I40: =IF(G40>0,H40/G40,"") | J40: =IF(I40>=0.07,"ja","nee") | K40: =IF(H40>0,G40/H40,"") | L40: 0.0266 | M40: 118806 | N40: 115792 | O40: 110915 | P40: A | Q40: Verhuurde hoekwoning | R40: https://www.beleggingspanden.nl/nl/nieuw-aanbod/week-11-2026
A41: 40 | B41: 12 | D41: Zelfstandig | E41: Weert | F41: Louis Regoutstraat 2, Weert | G41: 162500 | H41: 7889 | I41: =IF(G41>0,H41/G41,"") | J41: =IF(I41>=0.07,"ja","nee") | K41: =IF(H41>0,G41/H41,"") | L41: -0.0329 | P41: B | Q41: Verhuurd appartement | R41: https://www.beleggingspanden.nl/nl/nieuw-aanbod/week-12-2026
...

Sheet Mix
A1: De mixvertekening, live berekend uit het blad Panden
A2: Aandeel over de 7%-streep per periode en per categorie. Verander niets hier; filter of sorteer op het blad Panden.
A4: Periode (meetweek) | B4: Aantal | C4: Haalt 7% | D4: Aandeel kamerverhuur | E4: Mediane BAR zelfstandig | F4: Mediane BAR kamerverhuur
A5: jan-mrt (1-13) | B5: =COUNTIFS(Panden!$B$2:$B$143,">=1",Panden!$B$2:$B$143,"<=13") | C5: =IFERROR(COUNTIFS(Panden!$B$2:$B$143,">=1",Panden!$B$2:$B$143,"<=13",Panden!$I$2:$I$143,">=0.07")/COUNTIFS(Panden!$B$2:$B$143,">=1",Panden!$B$2:$B$143,"<=13"),"") | D5: =IFERROR(COUNTIFS(Panden!$B$2:$B$143,">=1",Panden!$B$2:$B$143,"<=13",Panden!$D$2:$D$143,"Kamerverhuur")/COUNTIFS(Panden!$B$2:$B$143,">=1",Panden!$B$2:$B$143,"<=13"),"") | E5: {=IFERROR(MEDIAN(IF((Panden!$B$2:$B$143>=1)*(Panden!$B$2:$B$143<=13)*(Panden!$D$2:$D$143="Zelfstandig"),Panden!$I$2:$I$143)),"")} | F5: {=IFERROR(MEDIAN(IF((Panden!$B$2:$B$143>=1)*(Panden!$B$2:$B$143<=13)*(Panden!$D$2:$D$143="Kamerverhuur"),Panden!$I$2:$I$143)),"")}
A6: apr-jun (14-26) | B6: =COUNTIFS(Panden!$B$2:$B$143,">=14",Panden!$B$2:$B$143,"<=26") | C6: =IFERROR(COUNTIFS(Panden!$B$2:$B$143,">=14",Panden!$B$2:$B$143,"<=26",Panden!$I$2:$I$143,">=0.07")/COUNTIFS(Panden!$B$2:$B$143,">=14",Panden!$B$2:$B$143,"<=26"),"") | D6: =IFERROR(COUNTIFS(Panden!$B$2:$B$143,">=14",Panden!$B$2:$B$143,"<=26",Panden!$D$2:$D$143,"Kamerverhuur")/COUNTIFS(Panden!$B$2:$B$143,">=14",Panden!$B$2:$B$143,"<=26"),"") | E6: {=IFERROR(MEDIAN(IF((Panden!$B$2:$B$143>=14)*(Panden!$B$2:$B$143<=26)*(Panden!$D$2:$D$143="Zelfstandig"),Panden!$I$2:$I$143)),"")} | F6: {=IFERROR(MEDIAN(IF((Panden!$B$2:$B$143>=14)*(Panden!$B$2:$B$143<=26)*(Panden!$D$2:$D$143="Kamerverhuur"),Panden!$I$2:$I$143)),"")}
A7: jul-aug (27-33) | B7: =COUNTIFS(Panden!$B$2:$B$143,">=27",Panden!$B$2:$B$143,"<=33") | C7: =IFERROR(COUNTIFS(Panden!$B$2:$B$143,">=27",Panden!$B$2:$B$143,"<=33",Panden!$I$2:$I$143,">=0.07")/COUNTIFS(Panden!$B$2:$B$143,">=27",Panden!$B$2:$B$143,"<=33"),"") | D7: =IFERROR(COUNTIFS(Panden!$B$2:$B$143,">=27",Panden!$B$2:$B$143,"<=33",Panden!$D$2:$D$143,"Kamerverhuur")/COUNTIFS(Panden!$B$2:$B$143,">=27",Panden!$B$2:$B$143,"<=33"),"") | E7: {=IFERROR(MEDIAN(IF((Panden!$B$2:$B$143>=27)*(Panden!$B$2:$B$143<=33)*(Panden!$D$2:$D$143="Zelfstandig"),Panden!$I$2:$I$143)),"")} | F7: {=IFERROR(MEDIAN(IF((Panden!$B$2:$B$143>=27)*(Panden!$B$2:$B$143<=33)*(Panden!$D$2:$D$143="Kamerverhuur"),Panden!$I$2:$I$143)),"")}
A8: sep (34-37) | B8: =COUNTIFS(Panden!$B$2:$B$143,">=34",Panden!$B$2:$B$143,"<=37") | C8: =IFERROR(COUNTIFS(Panden!$B$2:$B$143,">=34",Panden!$B$2:$B$143,"<=37",Panden!$I$2:$I$143,">=0.07")/COUNTIFS(Panden!$B$2:$B$143,">=34",Panden!$B$2:$B$143,"<=37"),"") | D8: =IFERROR(COUNTIFS(Panden!$B$2:$B$143,">=34",Panden!$B$2:$B$143,"<=37",Panden!$D$2:$D$143,"Kamerverhuur")/COUNTIFS(Panden!$B$2:$B$143,">=34",Panden!$B$2:$B$143,"<=37"),"") | E8: {=IFERROR(MEDIAN(IF((Panden!$B$2:$B$143>=34)*(Panden!$B$2:$B$143<=37)*(Panden!$D$2:$D$143="Zelfstandig"),Panden!$I$2:$I$143)),"")} | F8: {=IFERROR(MEDIAN(IF((Panden!$B$2:$B$143>=34)*(Panden!$B$2:$B$143<=37)*(Panden!$D$2:$D$143="Kamerverhuur"),Panden!$I$2:$I$143)),"")}
A9: alles (1-37) | B9: =COUNTIFS(Panden!$B$2:$B$143,">=1",Panden!$B$2:$B$143,"<=37") | C9: =IFERROR(COUNTIFS(Panden!$B$2:$B$143,">=1",Panden!$B$2:$B$143,"<=37",Panden!$I$2:$I$143,">=0.07")/COUNTIFS(Panden!$B$2:$B$143,">=1",Panden!$B$2:$B$143,"<=37"),"") | D9: =IFERROR(COUNTIFS(Panden!$B$2:$B$143,">=1",Panden!$B$2:$B$143,"<=37",Panden!$D$2:$D$143,"Kamerverhuur")/COUNTIFS(Panden!$B$2:$B$143,">=1",Panden!$B$2:$B$143,"<=37"),"") | E9: {=IFERROR(MEDIAN(IF((Panden!$B$2:$B$143>=1)*(Panden!$B$2:$B$143<=37)*(Panden!$D$2:$D$143="Zelfstandig"),Panden!$I$2:$I$143)),"")} | F9: {=IFERROR(MEDIAN(IF((Panden!$B$2:$B$143>=1)*(Panden!$B$2:$B$143<=37)*(Panden!$D$2:$D$143="Kamerverhuur"),Panden!$I$2:$I$143)),"")}
A11: Lezen: september bestaat voor het grootste deel uit kamerverhuur, dat structureel vaker 7% haalt. Binnen de categorieen beweegt de mediane BAR nauwelijks. De totaalteller springt door de mix, niet door prijzen.

Sheet Toelichting
A1: Koopbarometer: 142 te koop staande beleggingspanden, update september 2026
A2: Peildatum 16-09-2026. Brondata: openbare vastgoedaanbiedingen en openbare overheidsdata. Berekeningen: De Vastgoedrealist.
A4: Wat er nieuw is
A5: 27 panden (nr 116 t/m 142, geel gemarkeerd) komen uit het nieuwe aanbod van beleggingspanden.nl, week 32 t/m 37 (week 37 lopend op de peildatum). Ze zijn overgenomen uit de openbare weeksamenvatting en hebben daarom datakwaliteit B, of C bij theoretische huur, ontbrekend huisnummer of onduidelijke samenstelling.
A6: Meetweek = het weeknummer van de openbare weekpagina (week 1 = 5 januari 2026).
A8: Kolommen
A9: BAR = kale jaarhuur / vraagprijs (bruto). Haalt 7% = BAR op of boven 7%. Kapitalisatiefactor = vraagprijs / jaarhuur.
A10: IRR = rendement op eigen geld, Pandanalyse-motor: DCF 10 jaar, na belasting (Box 3), inclusief verkoop; 70% financiering tegen 5,5%, WOZ 90% van de vraagprijs.
A11: Biedprijs voor 7/8/10% = de prijs waarbij je precies dat rendement op eigen geld haalt (leeg = onhaalbaar bij deze huur).
A13: Gebruik
A14: Vraagprijzen, geen transacties. Vrij te gebruiken met bronvermelding: De Vastgoedrealist, vastgoedrealist.nl. Geen advies.
A15: Analyse: https://www.vastgoedrealist.nl/artikelen/corrigeert-de-vastgoedmarkt-update-september-2026.html
A16: Live: https://www.vastgoedrealist.nl/koopbarometer.html · Methode: https://www.vastgoedrealist.nl/methode.html
